BEGIN:VCALENDAR
VERSION:2.0
PRODID:-//Munich Startup - ECPv5.5.0//NONSGML v1.0//EN
CALSCALE:GREGORIAN
METHOD:PUBLISH
X-WR-CALNAME:Munich Startup
X-ORIGINAL-URL:https://cms.munich-startup.net/en
X-WR-CALDESC:Events for Munich Startup
BEGIN:VTIMEZONE
TZID:Europe/Berlin
BEGIN:DAYLIGHT
TZOFFSETFROM:+0100
TZOFFSETTO:+0200
TZNAME:CEST
DTSTART:20250330T010000
END:DAYLIGHT
BEGIN:STANDARD
TZOFFSETFROM:+0200
TZOFFSETTO:+0100
TZNAME:CET
DTSTART:20251026T010000
END:STANDARD
END:VTIMEZONE
BEGIN:VEVENT
DTSTART;TZID=Europe/Berlin:20251015T180000
DTEND;TZID=Europe/Berlin:20251015T210000
DTSTAMP:20260425T052518
CREATED:20250826T132727Z
LAST-MODIFIED:20251001T112543Z
UID:112080-1760551200-1760562000@cms.munich-startup.net
SUMMARY:Startup trifft Handwerk 2025
DESCRIPTION:Startup trifft Handwerk – Zukunftstechnologien\, Geschäftsmodelle und kreative Schmankerl \nIhr seid herzlich eingeladen zu unserer außergewöhnlichen Veranstaltung\, die die Welten des Handwerks und der innovativen Technologie-Startups zusammenbringt. \n„Startup trifft Handwerk“ bietet Euch die einzigartige Gelegenheit\, neue Technologien und Geschäftsmodelle kennenzulernen\, die speziell auf Eure Bedürfnisse zugeschnitten sind. \nDas Programm auf einen Blick\n17:30 Uhr   Einlass \n18:00 Uhr   Begrüßung \n18:05 Uhr   Keynote \n18:15 Uhr   Kurzpräsentationen der Innovationen \n19:15 Uhr   Unterstützungsangebote für das Handwerk und Startups \n19:25 Uhr   Netzwerken mit Gelegenheit die Technologien zu testen und die Schmankerl zu kosten \n21:00 Uhr   Voraussichtliches Veranstaltungsende \n„Wir bieten…“\n\n„…die automatisierte Verarbeitung von unstrukturierten Informationen“\, Cambrion\, München\n„…einen proaktiv lernenden KI-Agenten fürs Wissensmanagement“\, complemental\, Nürnberg\n„…Unterstützung bei der Nutzung von KI-Agenten in Ihrem Unternehmen“\, Dromni\, Garching bei München\n„…eine KI-gestützte Plattform für Standardisierung\, Qualifizierung und Prozessverbesserung“ Leanbyte\, Heidelberg\n„…präzise 3D-CAD-Modelle via iPhone Scan“\, Metaroom\, Puch bei Hallein (A)\n„…einen modularen Bauroboter“\, Sitegeist Robotics (ehemals Aiina Robotics)\, München\n„…den roten Faden fürs Business zum Durchstarten“\, Smartaxxess\, München\n„…Euren virtuellen Lagermitarbeiter“\, Smartventory\, München\n„…inspirierende Wohnideen direkt vom Profi umsetzen lassen“\, SooMore\, Neufahrn\n\n\nDazu gibt es Schmankerl von diesen kreativen Lebensmittelhandwerkern zu probieren: \n\n„…Popcorn made in Oberbayern“\, Ampertaler Popcorn\, Wang\n„…reines Sauerteigbrot und brasilianische Pão de Queijo“\, Brotatelier\, München\n„…biozertifinierte Spezialiäten aus eigener Schlachtung“\, Steakschmide Kreuth\, Kreuth\n\nHier findet Ihr mehr Informationen zu der Veranstaltung.
URL:https://cms.munich-startup.net/en/event/startup-meets-craft-2025/
LOCATION:Handwerkskammer für München und Oberbayern\, Max-Joseph-Straße 4\, München\, 80333
ATTACH;FMTTYPE=image/jpeg:https://cms.munich-startup.net/wp-content/uploads/2025/08/UhyPXUOUNcZhVTI.jpg
GEO:48.143271;11.5704708
X-APPLE-STRUCTURED-LOCATION;VALUE=URI;X-ADDRESS=Handwerkskammer für München und Oberbayern Max-Joseph-Straße 4 München 80333;X-APPLE-RADIUS=500;X-TITLE=Max-Joseph-Straße 4:geo:11.5704708,48.143271
END:VEVENT
END:VCALENDAR