BEGIN:VCALENDAR
VERSION:2.0
PRODID:-//Munich Startup - ECPv5.5.0//NONSGML v1.0//EN
CALSCALE:GREGORIAN
METHOD:PUBLISH
X-WR-CALNAME:Munich Startup
X-ORIGINAL-URL:https://cms.munich-startup.net/en
X-WR-CALDESC:Events for Munich Startup
BEGIN:VTIMEZONE
TZID:Europe/Berlin
BEGIN:DAYLIGHT
TZOFFSETFROM:+0100
TZOFFSETTO:+0200
TZNAME:CEST
DTSTART:20260329T010000
END:DAYLIGHT
BEGIN:STANDARD
TZOFFSETFROM:+0200
TZOFFSETTO:+0100
TZNAME:CET
DTSTART:20261025T010000
END:STANDARD
END:VTIMEZONE
BEGIN:VEVENT
DTSTART;TZID=Europe/Berlin:20260414T183000
DTEND;TZID=Europe/Berlin:20260414T223000
DTSTAMP:20260424T143310
CREATED:20260324T081621Z
LAST-MODIFIED:20260324T081621Z
UID:118471-1776191400-1776205800@cms.munich-startup.net
SUMMARY:Startup-Verband on Tour: München
DESCRIPTION:Startup-Verband on Tour geht wieder los! Zusammen mit Amazon und CMS laden wir euch ein\, an unserer Tour zum Thema „Von Kooperation zu Innovation“ teilzunehmen – ob in München\, Berlin oder Frankfurt am Main. \nStartup-Verband on Tour heißt: kurzes\, informatives Programm + Startup-Expo + ganz viel Zeit zum Austausch bei Snacks und Drinks. \nIn allen Städten werden wir über Startups und Corporates sprechen: Wie kann da eigentlich Zusammenarbeit funktionieren? Was funktioniert schon gut\, was noch nicht? \nErster Stopp: München.\nSilicon Valley? Nein. Das Isar Valley (München) zählt zu den spannendsten Startup-Hotspots in Europa und weltweit. Freut euch auf ein unterhaltsames Panel\, handfeste Daten und Fakten aus unserer Studie „Innovate to Collaborate“ und einen Short Talk aus der Praxis. \nHier findet Ihr mehr Informationen zu der Veranstaltung.
URL:https://cms.munich-startup.net/en/event/startup-association-on-tour-munich-2026/
LOCATION:Amazon Office München\, Anni-Albers-Straße 21\, München\, 80807
ATTACH;FMTTYPE=image/jpeg:https://cms.munich-startup.net/wp-content/uploads/2026/03/Startup_Verband_on_Tour_Muenchen.jpg
END:VEVENT
END:VCALENDAR