BEGIN:VCALENDAR
VERSION:2.0
PRODID:-//Munich Startup - ECPv5.5.0//NONSGML v1.0//EN
CALSCALE:GREGORIAN
METHOD:PUBLISH
X-WR-CALNAME:Munich Startup
X-ORIGINAL-URL:https://cms.munich-startup.net/en
X-WR-CALDESC:Events for Munich Startup
BEGIN:VTIMEZONE
TZID:Europe/Berlin
BEGIN:DAYLIGHT
TZOFFSETFROM:+0100
TZOFFSETTO:+0200
TZNAME:CEST
DTSTART:20240331T010000
END:DAYLIGHT
BEGIN:STANDARD
TZOFFSETFROM:+0200
TZOFFSETTO:+0100
TZNAME:CET
DTSTART:20241027T010000
END:STANDARD
END:VTIMEZONE
BEGIN:VEVENT
DTSTART;TZID=Europe/Berlin:20241209T183000
DTEND;TZID=Europe/Berlin:20241209T220000
DTSTAMP:20260425T210209
CREATED:20241118T073545Z
LAST-MODIFIED:20241118T073659Z
UID:105891-1733769000-1733781600@cms.munich-startup.net
SUMMARY:Road to START Summit
DESCRIPTION:Road to START Summit @Google \nThis is your opportunity to connect with industry leaders\, hear from visionary speakers\, and compete for an exclusive chance to attend the renowned START Summit in St. Gallen\, with over 6\,000 attendees and up to 10\,000 CHF in prize money! \nWhether you’re a startup founder or exploring new ideas\, this event is for you:\n– Got a startup? Pitch your idea and win a spot at the START Summit’s main stage in St. Gallen!\n– Not a founder yet? Join us as an attendee to gain valuable insights from successful entrepreneurs\, network with key players\, and explore new growth opportunities. \nJoin us\, UVC\, Earlybird\, and other top investors at Munich’s largest student-led entrepreneurship event. Let’s make an impact together! \nHier findet Ihr mehr Informationen zu der Veranstaltung.
URL:https://cms.munich-startup.net/en/event/road-to-start-summit-2024/
LOCATION:Google München\, Erika-Mann-Straße 33\, München\, Bayern\, 80636\, Deutschland
ATTACH;FMTTYPE=image/png:https://cms.munich-startup.net/wp-content/uploads/2024/11/RTSS-2025-Poster.png
END:VEVENT
END:VCALENDAR