BEGIN:VCALENDAR
VERSION:2.0
PRODID:-//Munich Startup - ECPv5.5.0//NONSGML v1.0//EN
CALSCALE:GREGORIAN
METHOD:PUBLISH
X-WR-CALNAME:Munich Startup
X-ORIGINAL-URL:https://cms.munich-startup.net/en
X-WR-CALDESC:Events for Munich Startup
BEGIN:VTIMEZONE
TZID:Europe/Berlin
BEGIN:DAYLIGHT
TZOFFSETFROM:+0100
TZOFFSETTO:+0200
TZNAME:CEST
DTSTART:20170326T010000
END:DAYLIGHT
BEGIN:STANDARD
TZOFFSETFROM:+0200
TZOFFSETTO:+0100
TZNAME:CET
DTSTART:20171029T010000
END:STANDARD
END:VTIMEZONE
BEGIN:VEVENT
DTSTART;TZID=Europe/Berlin:20170303T160000
DTEND;TZID=Europe/Berlin:20170305T190000
DTSTAMP:20260425T021820
CREATED:20170112T085623Z
LAST-MODIFIED:20170112T085623Z
UID:18092-1488556800-1488740400@cms.munich-startup.net
SUMMARY:PULS Hackdays 2017
DESCRIPTION:WAS IST DAS FÜR 1 HACK\, VONG GESCHMACK HER?\nFindet es heraus und kommt auf die PULS HACKDAYS vom 3. – 5. März 2017 in München. Wir besetzen das BR Funkhaus und nerden für 1 Wochenende so richtig ab: Pizza\, Mate\, Gadgets\, Hangouts\, Talks\, Zockerei\, Mentorships – langweilig wird’s never not! \nWER STECKT DAHINTER?\nDie PULS HACKDAYS sind ein von BR PULS organisierter Hackathon für Journalisten\, Designer und Programmierer. PULS ist das junge Programm des Bayerischen Rundfunk (BR). \nWAS WOLLEN WIR DAMIT?\nWir wollen die Türen des Bayerischen Rundfunk öffnen und mit Euch gemeinsam an der digitalen Zukunft arbeiten. For the people by the people. \nDIE CHALLENGES\nDie PULS Hackdays beschäftigen sich dieses Jahr noch expliziter mit PULS. Wir möchten uns für Euch öffnen und mit Euch an Herauforderungen arbeiten\, die man als junges öffentlich-rechtliches Angebot 2017 zu meistern hat. \nFolgende 7 Challenges haben wir für das Wochenende auserkoren: \n\nChatbots x Messenger x AI\nNext-Level Podcasts\nPULS im World Wide Web\nPULS @ Off-Air Events\nSnapchat vs. Instagram\nLive-Streaming\nFake-News Problem\n\nÜbrigens: Es ist keinesfalls ausgeschlossen\, dass wir auch nach den Hackdays weiter zusammen an den begonnenen Projekten arbeiten! \nHier findet Ihr mehr Informationen zu der Veranstaltung.
URL:https://cms.munich-startup.net/en/event/puls-hackdays-2017/
LOCATION:BR – Bayerischer Rundfunk\, Rundfunkplatz 1\, München\, 80335
ATTACH;FMTTYPE=image/png:https://cms.munich-startup.net/wp-content/uploads/2017/01/puls-hackdays.png
GEO:48.14424;11.55409
X-APPLE-STRUCTURED-LOCATION;VALUE=URI;X-ADDRESS=BR – Bayerischer Rundfunk Rundfunkplatz 1 München 80335;X-APPLE-RADIUS=500;X-TITLE=Rundfunkplatz 1:geo:11.55409,48.14424
END:VEVENT
END:VCALENDAR