BEGIN:VCALENDAR
VERSION:2.0
PRODID:-//Munich Startup - ECPv5.5.0//NONSGML v1.0//EN
CALSCALE:GREGORIAN
METHOD:PUBLISH
X-WR-CALNAME:Munich Startup
X-ORIGINAL-URL:https://cms.munich-startup.net/en
X-WR-CALDESC:Events for Munich Startup
BEGIN:VTIMEZONE
TZID:Europe/Berlin
BEGIN:DAYLIGHT
TZOFFSETFROM:+0100
TZOFFSETTO:+0200
TZNAME:CEST
DTSTART:20250330T010000
END:DAYLIGHT
BEGIN:STANDARD
TZOFFSETFROM:+0200
TZOFFSETTO:+0100
TZNAME:CET
DTSTART:20251026T010000
END:STANDARD
END:VTIMEZONE
BEGIN:VEVENT
DTSTART;TZID=Europe/Berlin:20250327T183000
DTEND;TZID=Europe/Berlin:20250327T210000
DTSTAMP:20260425T164338
CREATED:20250225T125405Z
LAST-MODIFIED:20250225T125405Z
UID:108157-1743100200-1743109200@cms.munich-startup.net
SUMMARY:Pizza & Pitches by Plug and Play Munich
DESCRIPTION:We’re excited to invite you and your team to our Pizza & Pitches event\, happening at the Plug and Play Munich Office on March 27th! \nThis will be a relaxed\, informal gathering of founders\, investors\, and key players from the startup world – perfect for sharing insights\, getting feedback\, and having fun over a slice of pizza. \nThere are no formalities here – just a laid-back environment where great conversations happen\, and pitches are made with ease! \nDue to limited capacity\, attendance is based on a waitlist\, and registrations will be reviewed for approval. We appreciate your understanding and will confirm your spot as soon as possible. \nHier findet Ihr mehr Informationen zu der Veranstaltung.
URL:https://cms.munich-startup.net/en/event/pizza-pitches-by-plug-and-play-munich/
LOCATION:Plug and Play Munich\, Balanstraße 73\, München\, 81541\, Deutschland
ATTACH;FMTTYPE=image/avif:https://cms.munich-startup.net/wp-content/uploads/2025/02/Pizza-Pitches-by-Plug-and-Play-Munich.avif
END:VEVENT
END:VCALENDAR