BEGIN:VCALENDAR
VERSION:2.0
PRODID:-//Munich Startup - ECPv5.5.0//NONSGML v1.0//EN
CALSCALE:GREGORIAN
METHOD:PUBLISH
X-WR-CALNAME:Munich Startup
X-ORIGINAL-URL:https://cms.munich-startup.net/en
X-WR-CALDESC:Events for Munich Startup
BEGIN:VTIMEZONE
TZID:Europe/Berlin
BEGIN:DAYLIGHT
TZOFFSETFROM:+0100
TZOFFSETTO:+0200
TZNAME:CEST
DTSTART:20180325T010000
END:DAYLIGHT
BEGIN:STANDARD
TZOFFSETFROM:+0200
TZOFFSETTO:+0100
TZNAME:CET
DTSTART:20181028T010000
END:STANDARD
END:VTIMEZONE
BEGIN:VEVENT
DTSTART;TZID=Europe/Berlin:20180131T183000
DTEND;TZID=Europe/Berlin:20180131T233000
DTSTAMP:20260424T233909
CREATED:20180129T073810Z
LAST-MODIFIED:20180129T074137Z
UID:32563-1517423400-1517441400@cms.munich-startup.net
SUMMARY:opening event of innovator space e.V. @ Münchner Freiheit 7
DESCRIPTION:Our main goal for this event is to give a quick introduction to what we are planning to do and how you could get involved if you are keen on meeting new and exciting new people; the rest of the evening should be joyful & fun\, maybe even meeting new friends. \nFind more information on www.innovatorspace.de.
URL:https://cms.munich-startup.net/en/event/opening-event-innovator-space/
LOCATION:Innovator Space e.V.\, Münchner Freiheit 7\, München\, 80802
ATTACH;FMTTYPE=image/jpeg:https://cms.munich-startup.net/wp-content/uploads/2018/01/test-e1517211566722.jpg
GEO:48.1621914;11.5866311
X-APPLE-STRUCTURED-LOCATION;VALUE=URI;X-ADDRESS=Innovator Space e.V. Münchner Freiheit 7 München 80802;X-APPLE-RADIUS=500;X-TITLE=Münchner Freiheit 7:geo:11.5866311,48.1621914
END:VEVENT
END:VCALENDAR