BEGIN:VCALENDAR
VERSION:2.0
PRODID:-//Munich Startup - ECPv5.5.0//NONSGML v1.0//EN
CALSCALE:GREGORIAN
METHOD:PUBLISH
X-WR-CALNAME:Munich Startup
X-ORIGINAL-URL:https://cms.munich-startup.net/en
X-WR-CALDESC:Events for Munich Startup
BEGIN:VTIMEZONE
TZID:Europe/Berlin
BEGIN:DAYLIGHT
TZOFFSETFROM:+0100
TZOFFSETTO:+0200
TZNAME:CEST
DTSTART:20250330T010000
END:DAYLIGHT
BEGIN:STANDARD
TZOFFSETFROM:+0200
TZOFFSETTO:+0100
TZNAME:CET
DTSTART:20251026T010000
END:STANDARD
END:VTIMEZONE
BEGIN:VEVENT
DTSTART;TZID=Europe/Berlin:20250301T090000
DTEND;TZID=Europe/Berlin:20250301T160000
DTSTAMP:20260425T164037
CREATED:20250117T123008Z
LAST-MODIFIED:20250117T123008Z
UID:107167-1740819600-1740844800@cms.munich-startup.net
SUMMARY:Open Data Day München 2025
DESCRIPTION:Am 1. März 2025 laden die Landeshauptstadt München (LHM) und die byte – Bayerische Agentur für Digitales GmbH\, gemeinsam mit dem OK Lab München\, zum Open Data Day München ein. \nEin Tag rund um Open Data: Vorträge und Workshops geben Impulse und Einblicke in die facettenreiche Welt der Daten. Es warten spezielle Angebote zum Kennenlernen\, Vernetzen und Austauschen auf die Teilnehmenden. \nHier findet Ihr mehr Informationen zu der Veranstaltung.
URL:https://cms.munich-startup.net/en/event/open-data-day-munich-2025/
LOCATION:Qubes\, Agnes-Pockels-Bogen 33\, München\, 80992\, Germany
ATTACH;FMTTYPE=image/jpeg:https://cms.munich-startup.net/wp-content/uploads/2025/01/ODDM_post-square_Programm-online1.jpg
END:VEVENT
END:VCALENDAR