BEGIN:VCALENDAR
VERSION:2.0
PRODID:-//Munich Startup - ECPv5.5.0//NONSGML v1.0//EN
CALSCALE:GREGORIAN
METHOD:PUBLISH
X-WR-CALNAME:Munich Startup
X-ORIGINAL-URL:https://cms.munich-startup.net/en
X-WR-CALDESC:Events for Munich Startup
BEGIN:VTIMEZONE
TZID:Europe/Berlin
BEGIN:DAYLIGHT
TZOFFSETFROM:+0100
TZOFFSETTO:+0200
TZNAME:CEST
DTSTART:20250330T010000
END:DAYLIGHT
BEGIN:STANDARD
TZOFFSETFROM:+0200
TZOFFSETTO:+0100
TZNAME:CET
DTSTART:20251026T010000
END:STANDARD
END:VTIMEZONE
BEGIN:VEVENT
DTSTART;TZID=Europe/Berlin:20250129T170000
DTEND;TZID=Europe/Berlin:20250129T200000
DTSTAMP:20260425T181408
CREATED:20241209T133722Z
LAST-MODIFIED:20241209T133722Z
UID:106494-1738170000-1738180800@cms.munich-startup.net
SUMMARY:Online: Workshop: Finanzierung innovativer Unternehmen
DESCRIPTION:Finanzierung innovativer Unternehmen – Grundlagen und Insights in die Finanzierungsmöglichkeiten für dein Startup\nDie Sicherstellung der Finanzierung deines Vorhabens ist ein grundlegender Meilenstein. Dabei gilt es bereits frühzeitig viel zu beachten. Als eines der größten Finanzierungsnetzwerke mit langjähriger Erfahrung geben wir dir in diesem Workshop Einblicke und Tipps aus der Praxis und beantworten deine Fragen. \nUm dir einen möglichst umfassenden Überblick zur Startup-Finanzierung geben zu können\, haben wir uns „Verstärkung“ von Partner-Experten aus den Bereichen Fördermittel und Venture Capital dazugeholt. \n\nWelche Möglichkeiten der Finanzierung gibt es für Startups?\nWann ist der richtige Zeitpunkt für Fördermittel und welche gibt es?\nSind Förderkredite eine Alternative?\nWie sehen die Prozesse bei Eigenkapitalinvestitionen durch Business Angels / Venture Capital aus?\nWie lange dauert die Finanzierungssuche?\nWie gehen Investoren aktuell vor?\n\nHier findet Ihr mehr Informationen zu der Veranstaltung.
URL:https://cms.munich-startup.net/en/event/online-workshop-financing-innovative-companies-2/
LOCATION:Online
ATTACH;FMTTYPE=image/png:https://cms.munich-startup.net/wp-content/uploads/2024/12/BayStartUP_Logotype_pos_RGB-1.png
END:VEVENT
END:VCALENDAR