BEGIN:VCALENDAR
VERSION:2.0
PRODID:-//Munich Startup - ECPv5.5.0//NONSGML v1.0//EN
CALSCALE:GREGORIAN
METHOD:PUBLISH
X-WR-CALNAME:Munich Startup
X-ORIGINAL-URL:https://cms.munich-startup.net/en
X-WR-CALDESC:Events for Munich Startup
BEGIN:VTIMEZONE
TZID:Europe/Berlin
BEGIN:DAYLIGHT
TZOFFSETFROM:+0100
TZOFFSETTO:+0200
TZNAME:CEST
DTSTART:20240331T010000
END:DAYLIGHT
BEGIN:STANDARD
TZOFFSETFROM:+0200
TZOFFSETTO:+0100
TZNAME:CET
DTSTART:20241027T010000
END:STANDARD
END:VTIMEZONE
BEGIN:VEVENT
DTSTART;TZID=Europe/Berlin:20240918T170000
DTEND;TZID=Europe/Berlin:20240918T200000
DTSTAMP:20260426T013031
CREATED:20240702T121255Z
LAST-MODIFIED:20240801T071700Z
UID:103665-1726678800-1726689600@cms.munich-startup.net
SUMMARY:Online: Workshop: Finanzierung innovativer Unternehmen
DESCRIPTION:Die wichtigsten Finanzierungsinstrumente und Investorenkontakte für junge innovative Unternehmen!\nGewinne einen fundierten Überblick über die Chancen und Anforderungen verschiedener Finanzierungsarten und knüpfe Kontakte! In kurzen Vorträgen stellen Experten die wichtigsten Finanzierungsinstrumente vor und Investoren verraten\, was erfolgreiche Startups anders machen. \n\nAgenda:\n\nBegrüßung & Einführung\nWas macht einen Unternehmer Venture Capital oder Business Angel fähig?\nFörderung für Technologie-Gründungen durch das Bayerische Staatsministerium für Wirtschaft\, Landesentwicklung und Energie\nFinanzierungshilfen der LfA Förderbank Bayern – Welchen Beitrag können Banken leisten?\nFrühphasenfinanzierung mit Beteiligungskapital\nHigh-Tech Gründerfonds – ein starker Motor für erfolgreiche High-Tech-Startups\n\nHier findet Ihr mehr Informationen zu der Veranstaltung.
URL:https://cms.munich-startup.net/en/event/online-workshop-financing-innovative-companies-0924/
LOCATION:Online
ATTACH;FMTTYPE=image/png:https://cms.munich-startup.net/wp-content/uploads/2024/07/BayStartUP_Logotype_pos_RGB.png
END:VEVENT
END:VCALENDAR