BEGIN:VCALENDAR
VERSION:2.0
PRODID:-//Munich Startup - ECPv5.5.0//NONSGML v1.0//EN
CALSCALE:GREGORIAN
METHOD:PUBLISH
X-WR-CALNAME:Munich Startup
X-ORIGINAL-URL:https://cms.munich-startup.net/en
X-WR-CALDESC:Events for Munich Startup
BEGIN:VTIMEZONE
TZID:Europe/Berlin
BEGIN:DAYLIGHT
TZOFFSETFROM:+0100
TZOFFSETTO:+0200
TZNAME:CEST
DTSTART:20250330T010000
END:DAYLIGHT
BEGIN:STANDARD
TZOFFSETFROM:+0200
TZOFFSETTO:+0100
TZNAME:CET
DTSTART:20251026T010000
END:STANDARD
END:VTIMEZONE
BEGIN:VEVENT
DTSTART;TZID=Europe/Berlin:20250124T133000
DTEND;TZID=Europe/Berlin:20250124T143000
DTSTAMP:20260425T193242
CREATED:20250107T100608Z
LAST-MODIFIED:20250108T153030Z
UID:106862-1737725400-1737729000@cms.munich-startup.net
SUMMARY:Online: Fachtutorial: Zu viel verraten? IP-Recht und Auftritte Deines Startups bei öffentlichen Events
DESCRIPTION:Zu viel verraten? IP-Recht und Auftritte Deines Startups bei öffentlichen Events und bedingt vertraulichen\, geschlossenen Veranstaltungen. Was gilt es zu beachten?\nPitch-Veranstaltungen\, Businessplan-Wettbewerbe\, Podiumsdiskussionen\, Startup-Messen\, soziale Medien – alles Events\, die hilfreich für Feedback\, Kontakte und Bekanntheitsgrad sind. Aus IP-rechtlicher Sicht macht es jedoch Sinn\, sich genau zu überlegen\, was ihr zu eurem Startup kommuniziert\, ohne dabei negative Konsequenzen für eure IP befürchten zu müssen. \nDie Patentanwältin Clarissa Regler aus der Kanzlei WINTER BRANDL Partnerschaft mbB bietet dir einen Einblick in die Thematik und beantwortet dabei folgende Fragen: \n\nWarum ist Kommunikation bei diversen Events kritisch hinsichtlich der eigenen noch zu schützenden Erfindung?\nWann habe ich „Öffentlichkeit“ geschaffen?\nWelche Folgen kann eine Kommunikation ohne IP-Strategie haben?\nWelcher Aufwand und welche Kosten kommen auf mich zu\, wenn ich eine Patentanmeldung einreichen möchte?\n\nHier findet Ihr mehr Informationen zu der Veranstaltung.
URL:https://cms.munich-startup.net/en/event/online-tutorial-revealing-too-much-ip-law-and-appearances-of-your-startup-at-public-events/
LOCATION:Online
ATTACH;FMTTYPE=image/png:https://cms.munich-startup.net/wp-content/uploads/2025/01/BayStartUP_Logotype_pos_RGB-1.png
END:VEVENT
END:VCALENDAR