BEGIN:VCALENDAR
VERSION:2.0
PRODID:-//Munich Startup - ECPv5.5.0//NONSGML v1.0//EN
CALSCALE:GREGORIAN
METHOD:PUBLISH
X-WR-CALNAME:Munich Startup
X-ORIGINAL-URL:https://cms.munich-startup.net/en
X-WR-CALDESC:Events for Munich Startup
BEGIN:VTIMEZONE
TZID:Europe/Berlin
BEGIN:DAYLIGHT
TZOFFSETFROM:+0100
TZOFFSETTO:+0200
TZNAME:CEST
DTSTART:20250330T010000
END:DAYLIGHT
BEGIN:STANDARD
TZOFFSETFROM:+0200
TZOFFSETTO:+0100
TZNAME:CET
DTSTART:20251026T010000
END:STANDARD
END:VTIMEZONE
BEGIN:VEVENT
DTSTART;TZID=Europe/Berlin:20250123T133000
DTEND;TZID=Europe/Berlin:20250123T143000
DTSTAMP:20260425T193237
CREATED:20241209T133233Z
LAST-MODIFIED:20241209T133233Z
UID:106491-1737639000-1737642600@cms.munich-startup.net
SUMMARY:Online: Fachtutorial: Markenverletzung bei geschützter Marke des Startups
DESCRIPTION:Markenverletzung bei geschützter Marke des Startups – Welche Reaktion ist empfehlenswert?\nDu hast deine Marke geschützt und stellst fest\, dass ein anderes Unternehmen die gleiche oder eine zum Verwechseln ähnliche Marke verwendet – im schlimmsten Fall handelt es sich dabei noch um einen deiner Konkurrenten. \n\nRechtsanwalt Christoph Vischer\, LL. M. aus der Kanzlei Weickmann & Weickmann bietet dir einen ersten Einblick in die relevanten Fragen\, die sich insbesondere für Startups wie folgt darstellen: \n\nWas ist als Marke schützbar?\nWas bedeutet „Markenschutz“?\nWelche Arten der Markenschutzverletzung gibt es?\nWie kann ich gegen eine Verletzung des Markenschutzes vorgehen?\nKann ich neben der Unterlassung auch Schadenersatz fordern?\nMit welchen Kosten muss ich rechnen?\n\nHier findet Ihr mehr Informationen zu der Veranstaltung.
URL:https://cms.munich-startup.net/en/event/online-tutorial-on-trademark-infringement-of-a-startups-protected-trademark-2/
LOCATION:Online
ATTACH;FMTTYPE=image/png:https://cms.munich-startup.net/wp-content/uploads/2024/12/BayStartUP_Logotype_pos_RGB.png
END:VEVENT
END:VCALENDAR