BEGIN:VCALENDAR
VERSION:2.0
PRODID:-//Munich Startup - ECPv5.5.0//NONSGML v1.0//EN
CALSCALE:GREGORIAN
METHOD:PUBLISH
X-WR-CALNAME:Munich Startup
X-ORIGINAL-URL:https://cms.munich-startup.net/en
X-WR-CALDESC:Events for Munich Startup
BEGIN:VTIMEZONE
TZID:Europe/Berlin
BEGIN:DAYLIGHT
TZOFFSETFROM:+0100
TZOFFSETTO:+0200
TZNAME:CEST
DTSTART:20250330T010000
END:DAYLIGHT
BEGIN:STANDARD
TZOFFSETFROM:+0200
TZOFFSETTO:+0100
TZNAME:CET
DTSTART:20251026T010000
END:STANDARD
END:VTIMEZONE
BEGIN:VEVENT
DTSTART;TZID=Europe/Berlin:20251211T133000
DTEND;TZID=Europe/Berlin:20251211T143000
DTSTAMP:20260425T025058
CREATED:20251106T091056Z
LAST-MODIFIED:20251106T091056Z
UID:114381-1765459800-1765463400@cms.munich-startup.net
SUMMARY:Online: Tutorial: Wie tickt ein VC?
DESCRIPTION:Wie tickt ein VC und wie manage ich professionell die Kapitalsuche bis zum Invest?\nIn diesem Workshop kannst du der Analystin Sarah Gscheider von Bayern Kapital alle Fragen stellen\, die du zu Venture Capital und dem Investmentprozess hast. Statt eines langen Vortrages beantworten wir deine Fragen direkt. \n\nVC-Renditeerwartungen und deren Erfüllung\nFaire Unternehmensbewertung\nBedeutung von Term Sheets\nDue Diligence-Prozess und Kosten\nFinanzierungsoptionen – Convertible Loan vs. Minderheitsbeteiligung\nSecond Closing\n\nZudem erhältst du wertvolle Tipps\, wie du den Fundraising-Prozess professionell und effizient gestaltest: \n\nStrukturierung und zeitlicher Ablauf der Investorenansprache.\nVerhandlungsführung und rechtliche Aspekte\nErwartungen an Gründer und Investoren\nUmgang mit mehreren Investoren\nDatenbereitstellung und Fehlervermeidung\n\nSarah Gscheider von Bayern Kapital und Dr. Carolin Plagmann von BayStartUP teilen ihre Erfahrungen und geben praxisnahe Einblicke\, damit du den Prozess zielgerichtet und erfolgreich durchführst. \nHier findet Ihr mehr Informationen zu der Veranstaltung.
URL:https://cms.munich-startup.net/en/event/online-tutorial-how-a-vc-works/
LOCATION:Online
ATTACH;FMTTYPE=image/png:https://cms.munich-startup.net/wp-content/uploads/2025/11/BayStartUP_Logotype_pos_RGB-1.png
END:VEVENT
END:VCALENDAR