BEGIN:VCALENDAR
VERSION:2.0
PRODID:-//Munich Startup - ECPv5.5.0//NONSGML v1.0//EN
CALSCALE:GREGORIAN
METHOD:PUBLISH
X-WR-CALNAME:Munich Startup
X-ORIGINAL-URL:https://cms.munich-startup.net/en
X-WR-CALDESC:Events for Munich Startup
BEGIN:VTIMEZONE
TZID:Europe/Berlin
BEGIN:DAYLIGHT
TZOFFSETFROM:+0100
TZOFFSETTO:+0200
TZNAME:CEST
DTSTART:20240331T010000
END:DAYLIGHT
BEGIN:STANDARD
TZOFFSETFROM:+0200
TZOFFSETTO:+0100
TZNAME:CET
DTSTART:20241027T010000
END:STANDARD
END:VTIMEZONE
BEGIN:VEVENT
DTSTART;TZID=Europe/Berlin:20240926T133000
DTEND;TZID=Europe/Berlin:20240926T143000
DTSTAMP:20260426T012615
CREATED:20240801T072950Z
LAST-MODIFIED:20240801T072950Z
UID:103673-1727357400-1727361000@cms.munich-startup.net
SUMMARY:Online: Fachtutorial: Das Bankengespräch – wie bereite ich mich vor und wie läuft das Gespräch ab?
DESCRIPTION:Das Bankengespräch – wie bereite ich mich vor und wie läuft das Gespräch ab? \nUm das Gespräch mit dem Firmenkundenbetreuer einer Bank optimal vorzubereiten gilt es einiges zu beachten. \n\nNikola Nikolic von der Stadtsparkasse München gibt im Tutorial Einblicke und Tipps zur Vorbereitung auf das Bankgespräch für Startups: \n\nWelche Unterlagen sind notwendig?\nWann sollte ich die Unterlagen übersenden?\nKann mich der Firmenkundenbetreuer „coachen“?\nWie sieht das Aufgabenumfeld des Firmenkundenbetreuers aus?\nWie „tickt“ die Bank und wer entscheidet letztendlich über die Kreditvergabe?\nWie lange dauert der Entscheidungsprozess bis zur Kreditvergabe üblicherweise?\nWelches Reportung wird erwartet?\n\nHier findet Ihr mehr Informationen zu der Veranstaltung.
URL:https://cms.munich-startup.net/en/event/online-technical-tutorial-the-bank-interview/
LOCATION:Online
ATTACH;FMTTYPE=image/png:https://cms.munich-startup.net/wp-content/uploads/2024/08/BayStartUP_Logotype_pos_RGB.png
END:VEVENT
END:VCALENDAR