BEGIN:VCALENDAR
VERSION:2.0
PRODID:-//Munich Startup - ECPv5.5.0//NONSGML v1.0//EN
CALSCALE:GREGORIAN
METHOD:PUBLISH
X-WR-CALNAME:Munich Startup
X-ORIGINAL-URL:https://cms.munich-startup.net/en
X-WR-CALDESC:Events for Munich Startup
BEGIN:VTIMEZONE
TZID:Europe/Berlin
BEGIN:DAYLIGHT
TZOFFSETFROM:+0100
TZOFFSETTO:+0200
TZNAME:CEST
DTSTART:20220327T010000
END:DAYLIGHT
BEGIN:STANDARD
TZOFFSETFROM:+0200
TZOFFSETTO:+0100
TZNAME:CET
DTSTART:20221030T010000
END:STANDARD
END:VTIMEZONE
BEGIN:VEVENT
DTSTART;TZID=Europe/Berlin:20220628T193000
DTEND;TZID=Europe/Berlin:20220628T203000
DTSTAMP:20260425T010944
CREATED:20220518T115407Z
LAST-MODIFIED:20220518T115407Z
UID:82660-1656444600-1656448200@cms.munich-startup.net
SUMMARY:Online: SevenVentures Pitch Day 2022
DESCRIPTION:Der SevenVentures Pitch Day (7VPD) ist zurück mit einem der größten Preise der Startup-Szene: ein Werbebudget in Höhe von 3 Mio. Euro auf den Kanälen von ProSiebenSat.1 und ein On-Top-Produktionsbudget für einen TV-Spot. \nDer Pitch Day findet im Rahmen eines Live-Streaming-Events am 28. Juni 2022 in Wien statt\, wo unsere vier ausgewählten Finalisten vor unserer Expertenjury pitchen werden. Zuschauer:innen und Startup-Fans können das virtuelle Event live auf der 4GAMECHANGERS-Online-Plattform verfolgen. Moderiert wird der 7VPD auch 2022 wieder von TV-Moderator Steven Gätjen. \nBewerben können sich nationale und internationale B2C-Startups mit Konsumenten-orientierten Produkten und Dienstleistungen\, die ihr Geschäftsmodell schnell in Deutschland skalieren wollen und sich bereits in einem Entwicklungsstadium befinden\, in dem sie von der Werbepower einer Bewegtbildkampagne nachhaltig profitieren können. \nHier findet Ihr mehr Informationen zu der Veranstaltung.
URL:https://cms.munich-startup.net/en/event/online-sevenventures-pitch-day-2022/
LOCATION:Online
ATTACH;FMTTYPE=image/jpeg:https://cms.munich-startup.net/wp-content/uploads/2022/05/1542-04-01_SevenOne_7VPD2022_StartUp_Insider_1200x600px_v01.jpg
END:VEVENT
END:VCALENDAR