BEGIN:VCALENDAR
VERSION:2.0
PRODID:-//Munich Startup - ECPv5.5.0//NONSGML v1.0//EN
CALSCALE:GREGORIAN
METHOD:PUBLISH
X-WR-CALNAME:Munich Startup
X-ORIGINAL-URL:https://cms.munich-startup.net/en
X-WR-CALDESC:Events for Munich Startup
BEGIN:VTIMEZONE
TZID:Europe/Berlin
BEGIN:DAYLIGHT
TZOFFSETFROM:+0100
TZOFFSETTO:+0200
TZNAME:CEST
DTSTART:20240331T010000
END:DAYLIGHT
BEGIN:STANDARD
TZOFFSETFROM:+0200
TZOFFSETTO:+0100
TZNAME:CET
DTSTART:20241027T010000
END:STANDARD
END:VTIMEZONE
BEGIN:VEVENT
DTSTART;TZID=Europe/Berlin:20241128T133000
DTEND;TZID=Europe/Berlin:20241128T143000
DTSTAMP:20260425T205452
CREATED:20241025T075107Z
LAST-MODIFIED:20241025T075107Z
UID:105489-1732800600-1732804200@cms.munich-startup.net
SUMMARY:Online: Darlehensfinanzierung für Startups
DESCRIPTION:Fachtutorial: Darlehensfinanzierung für Startups. Welche Beurteilungskriterien legt die Bank zugrunde?\nBanken vergeben Fremdkapital (Darlehen/Kredite) typischerweise gegen Sicherheiten und in Abhängigkeit von der Rückzahlungswahrscheinlichkeit. Dabei wird u.a. auch auf die Umsatzsituation der Firma geschaut. \nNikola Nikolic von der Stadtsparkasse München gibt im Tutorial Einblicke und Tipps zu Beurteilungskriterien für Startups: \n\nBekomme ich für mein Startup überhaupt einen Kredit?\nWie schätzt die Bank mein Unternehmen ein? Welche Kriterien werden zugrunde gelegt?\nWas bedeutet das Hausbankenprinzip bei Förderkrediten?\nKredithöhe\, Zins\, Tilgung\, Haftung\, Bürgschaft – Welchen Verhandlungsspielraum gibt es?\nWelche Rolle spielt der Firmenkundenbetreuer und welche Interessen hat er?\nWelches Reporting wird erwartet?\n\nHier findet Ihr mehr Informationen zu der Veranstaltung.
URL:https://cms.munich-startup.net/en/event/online-loan-financing-for-startups/
LOCATION:Online
ATTACH;FMTTYPE=image/png:https://cms.munich-startup.net/wp-content/uploads/2024/10/BayStartUP_Logotype_pos_RGB.png
END:VEVENT
END:VCALENDAR