BEGIN:VCALENDAR
VERSION:2.0
PRODID:-//Munich Startup - ECPv5.5.0//NONSGML v1.0//EN
CALSCALE:GREGORIAN
METHOD:PUBLISH
X-WR-CALNAME:Munich Startup
X-ORIGINAL-URL:https://cms.munich-startup.net/en
X-WR-CALDESC:Events for Munich Startup
BEGIN:VTIMEZONE
TZID:Europe/Berlin
BEGIN:DAYLIGHT
TZOFFSETFROM:+0100
TZOFFSETTO:+0200
TZNAME:CEST
DTSTART:20240331T010000
END:DAYLIGHT
BEGIN:STANDARD
TZOFFSETFROM:+0200
TZOFFSETTO:+0100
TZNAME:CET
DTSTART:20241027T010000
END:STANDARD
END:VTIMEZONE
BEGIN:VEVENT
DTSTART;TZID=Europe/Berlin:20241017T103000
DTEND;TZID=Europe/Berlin:20241017T120000
DTSTAMP:20260426T000014
CREATED:20240709T085857Z
LAST-MODIFIED:20240709T134355Z
UID:102950-1729161000-1729166400@cms.munich-startup.net
SUMMARY:Online: Holdingstrukturen - Umsetzung und Vorteile für Startups
DESCRIPTION:gate-Academy: Workshop „Holdingstrukturen – Umsetzung und Vorteile für Startups“ in Zusammenarbeit mit KPMG \nDu fragst dich\, welche Vorteile eine Holdingstruktur für dein Startup haben kann und wie du sie umsetzt? Dann bist du bei unserer nächsten gate-Academy genau richtig. \nIm online Themenvortrag mit anschließendem Q&A erläutert dir Tanja Oswald von KPMG\, Expertin für Steuerthemen\, folgende Inhalte: \n\nIn welcher Konstellation macht eine Holdingstruktur für dein Startup Sinn?\nWelche steuerlichen Vorteile bringt sie?\nWelche rechtlichen Rahmenbedingungen zur Umsetzung sind nötig?\n\nHier findet Ihr mehr Informationen zu der Veranstaltung.
URL:https://cms.munich-startup.net/en/event/online-holding-structures-implementation-and-advantages-for-startups/
LOCATION:Online
ATTACH;FMTTYPE=image/jpeg:https://cms.munich-startup.net/wp-content/uploads/2024/07/Holdingstrukturen_Umsetzung_und_Vorteile_fuer_Startups.jpg
END:VEVENT
END:VCALENDAR