BEGIN:VCALENDAR
VERSION:2.0
PRODID:-//Munich Startup - ECPv5.5.0//NONSGML v1.0//EN
CALSCALE:GREGORIAN
METHOD:PUBLISH
X-WR-CALNAME:Munich Startup
X-ORIGINAL-URL:https://cms.munich-startup.net/en
X-WR-CALDESC:Events for Munich Startup
BEGIN:VTIMEZONE
TZID:Europe/Berlin
BEGIN:DAYLIGHT
TZOFFSETFROM:+0100
TZOFFSETTO:+0200
TZNAME:CEST
DTSTART:20200329T010000
END:DAYLIGHT
BEGIN:STANDARD
TZOFFSETFROM:+0200
TZOFFSETTO:+0100
TZNAME:CET
DTSTART:20201025T010000
END:STANDARD
END:VTIMEZONE
BEGIN:VEVENT
DTSTART;TZID=Europe/Berlin:20200731T100000
DTEND;TZID=Europe/Berlin:20200731T113000
DTSTAMP:20260424T203210
CREATED:20200701T125440Z
LAST-MODIFIED:20220316T143803Z
UID:61871-1596189600-1596195000@cms.munich-startup.net
SUMMARY:Online: gateACADEMY CleanTech - Klimaneutralität als Wettbewerbsvorteil
DESCRIPTION:Transparenz und Messbarkeit des Impacts\nWas die eigene Technologie für den Klimaschutz bedeutet – Best Practice KEWAZO\nKlimaneutralität als Alleinstellungsmerkmal beim Employer Branding und der Kundenakquise \nKlimawandel geht alle an\, auch Startups. Um sie dabei zu unterstützen\, ihre Geschäftsmodelle nachhaltiger zu gestalten\, bietet das Technologie- und Gründerzentrum gate in Zusammenarbeit mit ClimatePartner kostenfreie Weiterbildung zum Thema CleanTech an. \nDer Fokus im Workshop liegt auf der Vermarktung einer Nachhaltigkeitsstrategie. Die Teilnehmer erfahren\, wie die Maßnahmen zum Ausgleich oder zur Vermeidung von Emissionen gewinnbringend kommuniziert werden können. gate-Startup KEWAZO stellt sein Best Practice vor\, wie die Marketingstrategie für den Gerüstbauroboter Liftbot vom nachhaltigen Ansatz profitiert. \nBei der CleanTech-Sprechstunde mit ClimatePartner\, die im Anschluss an die Workshops stattfindet können die Gründer*innen mit einem erfahrenen und kompetenten Partner über die Chancen zum Klimaschutz in ihrem Unternehmen sprechen. \n 
URL:https://cms.munich-startup.net/en/event/online-gateacademy-cleantech-climate-neutrality-as-a-competitive-advantage/
LOCATION:Online
ATTACH;FMTTYPE=image/jpeg:https://cms.munich-startup.net/wp-content/uploads/2020/07/CleanTech-gateACADEMY-013-Header_2160x1080_3.jpg
END:VEVENT
END:VCALENDAR