BEGIN:VCALENDAR
VERSION:2.0
PRODID:-//Munich Startup - ECPv5.5.0//NONSGML v1.0//EN
CALSCALE:GREGORIAN
METHOD:PUBLISH
X-WR-CALNAME:Munich Startup
X-ORIGINAL-URL:https://cms.munich-startup.net/en
X-WR-CALDESC:Events for Munich Startup
BEGIN:VTIMEZONE
TZID:Europe/Berlin
BEGIN:DAYLIGHT
TZOFFSETFROM:+0100
TZOFFSETTO:+0200
TZNAME:CEST
DTSTART:20250330T010000
END:DAYLIGHT
BEGIN:STANDARD
TZOFFSETFROM:+0200
TZOFFSETTO:+0100
TZNAME:CET
DTSTART:20251026T010000
END:STANDARD
END:VTIMEZONE
BEGIN:VEVENT
DTSTART;TZID=Europe/Berlin:20251022T170000
DTEND;TZID=Europe/Berlin:20251022T180000
DTSTAMP:20260425T053829
CREATED:20251020T092929Z
LAST-MODIFIED:20251020T092929Z
UID:113836-1761152400-1761156000@cms.munich-startup.net
SUMMARY:Online: Fundraising - Ask us everything
DESCRIPTION:Fundraising – Ask us everything: Gabriel Thomalla (Alaiko & Zenfulfillment)\, Xaver Lehmann (e-bot7 & Vidlab7) und Daniel Schmitt-Haverkamp (everdrop) \nDrei Gründer\, über 200 Mio Euro geraised. Keine Theorie\, sondern echte Erfahrungen. \nWie findest du deine ersten Investoren?\nWie verhandelst du ein Termsheet\, ohne auf die Nase zu fallen?\nWie viel Equity gibst du ab – und wann sagst du besser Nein?\nWas waren die größten Fehler beim Fundraising – und was würdet ihr heute anders machen? \nFrag\, was dich wirklich beschäftigt – direkt\, ehrlich\, umsetzbar.\nKein Bullshit\, kein Buzzword-Bingo – echte Praxis\, echte Tipps. \nMit Gabriel Thomalla (Alaiko & Zenfulfillment)\, Xaver Lehmann (e-bot7 & Vidlab7) und Daniel Schmitt-Haverkamp (everdrop) \nEin Format von StartupMatch – für Founder in der Pre-Seed & Seed-Phase\, die wirklich vorankommen wollen. \nHier findet Ihr mehr Informationen zu der Veranstaltung.
URL:https://cms.munich-startup.net/en/event/online-fundraising-ask-us-everything/
LOCATION:Online
ATTACH;FMTTYPE=image/jpeg:https://cms.munich-startup.net/wp-content/uploads/2025/10/Fundraising-Event-3.jpg
END:VEVENT
END:VCALENDAR