BEGIN:VCALENDAR
VERSION:2.0
PRODID:-//Munich Startup - ECPv5.5.0//NONSGML v1.0//EN
CALSCALE:GREGORIAN
METHOD:PUBLISH
X-WR-CALNAME:Munich Startup
X-ORIGINAL-URL:https://cms.munich-startup.net/en
X-WR-CALDESC:Events for Munich Startup
BEGIN:VTIMEZONE
TZID:Europe/Berlin
BEGIN:DAYLIGHT
TZOFFSETFROM:+0100
TZOFFSETTO:+0200
TZNAME:CEST
DTSTART:20250330T010000
END:DAYLIGHT
BEGIN:STANDARD
TZOFFSETFROM:+0200
TZOFFSETTO:+0100
TZNAME:CET
DTSTART:20251026T010000
END:STANDARD
END:VTIMEZONE
BEGIN:VEVENT
DTSTART;TZID=Europe/Berlin:20250514T140000
DTEND;TZID=Europe/Berlin:20250514T150000
DTSTAMP:20260425T134859
CREATED:20250430T080937Z
LAST-MODIFIED:20250430T081037Z
UID:109455-1747231200-1747234800@cms.munich-startup.net
SUMMARY:Online: Female StartAperitivo
DESCRIPTION:Ten Female StartAperitivo semifinals across Germany\, one epic grand finale in Berlin! \n​After carefully reviewing numerous applications\, we’ve selected outstanding startups to pitch their ideas in front of a top-tier jury. Only one will secure a coveted spot in the Berlin Grand Finale — but they won’t be the only ones deciding! \n​YOU can be the 5th jury member!\nWe’re giving the audience a say — your vote could help crown the regional winner and send them to the national stage in Berlin! \n​Female StartAperitivo is back for its fifth edition\, providing female-led startups with a powerful platform to gain visibility and access to capital.\nThe grand finale\, featuring the top 10 finalists\, will take place on June 27 in Berlin. \nHier findet Ihr mehr Informationen zu der Veranstaltung.
URL:https://cms.munich-startup.net/en/event/online-female-start-aperitivo/
LOCATION:Online
ATTACH;FMTTYPE=image/jpeg:https://cms.munich-startup.net/wp-content/uploads/2025/04/FSA.jpg
END:VEVENT
END:VCALENDAR