BEGIN:VCALENDAR
VERSION:2.0
PRODID:-//Munich Startup - ECPv5.5.0//NONSGML v1.0//EN
CALSCALE:GREGORIAN
METHOD:PUBLISH
X-WR-CALNAME:Munich Startup
X-ORIGINAL-URL:https://cms.munich-startup.net/en
X-WR-CALDESC:Events for Munich Startup
BEGIN:VTIMEZONE
TZID:Europe/Berlin
BEGIN:DAYLIGHT
TZOFFSETFROM:+0100
TZOFFSETTO:+0200
TZNAME:CEST
DTSTART:20250330T010000
END:DAYLIGHT
BEGIN:STANDARD
TZOFFSETFROM:+0200
TZOFFSETTO:+0100
TZNAME:CET
DTSTART:20251026T010000
END:STANDARD
END:VTIMEZONE
BEGIN:VEVENT
DTSTART;TZID=Europe/Berlin:20250403T103000
DTEND;TZID=Europe/Berlin:20250403T120000
DTSTAMP:20260425T153700
CREATED:20250305T064623Z
LAST-MODIFIED:20250305T064623Z
UID:108317-1743676200-1743681600@cms.munich-startup.net
SUMMARY:Online: Mitarbeiterbeteiligung: Aktuelle Trends und neue Chancen
DESCRIPTION:gate-Academy: Workshop in Zusammenarbeit mit KPMG \nAls Tech-Founder fragst du dich\, wie du mit smarten Beteiligungsmodellen Innovation und Wachstum förderst? In diesem online Themenvortrag mit anschließendem Q&A geben dir Dr. Christian Hensel und Manuel Schirmer einen Einblick in aktuelle Themen rund um die Mitarbeiterbeteiligung: \n\nNeue steuerliche Chancen durch das Zukunftsfinanzierungsgesetz\nMotive für „echte“ Mitarbeiterkapitalbeteiligung\nÜbliche Gestaltungsmodelle in der Praxis\nGenussrechte im Fokus – derzeit die beste Form der Mitarbeiterbeteiligung?\n\nDr. Christian Hensel\, KPMG Law\, berät seit mehr als 15 Jahren Mandanten bei nationalen und internationalen M&A-Transaktionen\, Private Equity- und Venture Capital-Investments sowie bei gesellschafts- und wirtschaftsrechtlichen Angelegenheiten. Manuel Schirmer ist Teil des Fokusteams für Reward Services der KPMG AG und promoviert zur steuerlichen Behandlung von Mitarbeiterbeteiligungen. \nNutze die Gelegenheit\, dich mit unseren Experten von KPMG auszutauschen und gewinne wertvolle Insights für deine eigene Gründerreise. Reserviere dir jetzt deinen Platz. Wir freuen uns auf dich! \nHier findet Ihr mehr Informationen zu der Veranstaltung.
URL:https://cms.munich-startup.net/en/event/online-employee-participation-current-trends-and-new-opportunities/
LOCATION:Online
ATTACH;FMTTYPE=image/jpeg:https://cms.munich-startup.net/wp-content/uploads/2025/03/Mitarbeiterbeteiligung-Aktuelle-Trends-und-neue-Chancen-4.jpg
END:VEVENT
END:VCALENDAR