BEGIN:VCALENDAR
VERSION:2.0
PRODID:-//Munich Startup - ECPv5.5.0//NONSGML v1.0//EN
CALSCALE:GREGORIAN
METHOD:PUBLISH
X-WR-CALNAME:Munich Startup
X-ORIGINAL-URL:https://cms.munich-startup.net/en
X-WR-CALDESC:Events for Munich Startup
BEGIN:VTIMEZONE
TZID:Europe/Berlin
BEGIN:DAYLIGHT
TZOFFSETFROM:+0100
TZOFFSETTO:+0200
TZNAME:CEST
DTSTART:20250330T010000
END:DAYLIGHT
BEGIN:STANDARD
TZOFFSETFROM:+0200
TZOFFSETTO:+0100
TZNAME:CET
DTSTART:20251026T010000
END:STANDARD
END:VTIMEZONE
BEGIN:VEVENT
DTSTART;TZID=Europe/Berlin:20250212T090000
DTEND;TZID=Europe/Berlin:20250212T110000
DTSTAMP:20260425T181500
CREATED:20250127T080645Z
LAST-MODIFIED:20250127T080645Z
UID:107288-1739350800-1739358000@cms.munich-startup.net
SUMMARY:Online: Digitales Marketing für nachhaltige Geschäftsmodelle
DESCRIPTION:In Kooperation mit der Günther Rid Stiftung für den bayerischen Einzelhandel bietet Kreativ München ein neues\, kostenfreies Qualifizierungsprogramm in Form von zwei Online-Trainings an\, das Unternehmen aus der Kultur- und Kreativwirtschaft dabei unterstützt\, nachhaltige und kundenorientierte Geschäftsmodelle zu entwickeln und zu optimieren. Das Programm vermittelt praxiserprobtes Wissen\, um Kunden und Kundinnen besser zu erreichen. Das Argument „Nachhaltigkeit“ reicht dazu oftmals nicht aus. Vielmehr muss der Begriff für die jeweiligen Kunden und Kundinnen in konkreten Nutzen übersetzt werden. Das ist nicht so einfach\, denn auch die Preisbereitschaften unterschiedlicher Zielgruppen sind bei der Positionierung zu berücksichtigen. Das Programm gibt einen Überblick und theoretische Grundlagen zum Thema Nachhaltigkeit und Zirkularität aus der Unternehmensperspektive. \nUnternehmen\, die bereits nachhaltige Geschäftsmodelle umgesetzt haben\, können sich darüber hinaus für ein individuelles\, ebenfalls kostenfreies Coachingprogramm bewerben.\nFachlich umgesetzt werden die Online-Trainings von der Strategie- und Digitalberatung elaboratum aus München. \nZielgruppe:\nDie Online-Trainings richten sich an bereits agierende Unternehmer*innen aus der Kultur- und Kreativwirtschaft\, die Nachhaltigkeit und bzw. oder Zirkularität zukünftig ins Zentrum ihres Geschäftsmodells stellen möchten. Das Programm ist für Unternehmen unterschiedlicher Branchen und Größe offen\, insbesondere wenn physische Produkte vermarktet werden (z.B. Mode\, Möbel\, Designprodukte\, Verlage etc.). \nInhalte Teil 1 (12.02.2025)\nKonsumverhalten und Kund*innensegmente für nachhaltige Geschäftsmodelle\nErfolgreiche Positionierung von Nachhaltigkeit (Value\, Kaufargumente\, Preisbereitschaft\, emotional verkaufen)\nMögliche Handlungsfelder für die Integration von Nachhaltigkeit und Zirkularität \nInhalte Teil 2 (19.02.2025)\nBest Practice Beispiele und weitere Anlaufstellen für das Thema\nOnline Marketing für Nachhaltigkeit ohne Greenwashing \nAnmeldeschluss: 11. Februar 2025 \nHier findet ihr mehr Informationen zu der Veranstaltung.
URL:https://cms.munich-startup.net/en/event/online-digital-marketing-for-sustainable-business-models/
LOCATION:Online
ATTACH;FMTTYPE=image/jpeg:https://cms.munich-startup.net/wp-content/uploads/2025/01/Visual-Coachingprogramm-Rid2025._klein.jpg
END:VEVENT
END:VCALENDAR