BEGIN:VCALENDAR
VERSION:2.0
PRODID:-//Munich Startup - ECPv5.5.0//NONSGML v1.0//EN
CALSCALE:GREGORIAN
METHOD:PUBLISH
X-WR-CALNAME:Munich Startup
X-ORIGINAL-URL:https://cms.munich-startup.net/en
X-WR-CALDESC:Events for Munich Startup
BEGIN:VTIMEZONE
TZID:Europe/Berlin
BEGIN:DAYLIGHT
TZOFFSETFROM:+0100
TZOFFSETTO:+0200
TZNAME:CEST
DTSTART:20240331T010000
END:DAYLIGHT
BEGIN:STANDARD
TZOFFSETFROM:+0200
TZOFFSETTO:+0100
TZNAME:CET
DTSTART:20241027T010000
END:STANDARD
END:VTIMEZONE
BEGIN:VEVENT
DTSTART;TZID=Europe/Berlin:20241014T090000
DTEND;TZID=Europe/Berlin:20241014T110000
DTSTAMP:20260426T003128
CREATED:20240903T075211Z
LAST-MODIFIED:20240903T075211Z
UID:104458-1728896400-1728903600@cms.munich-startup.net
SUMMARY:Online: BIHK-Webinar: Umsetzung der neuen EU-Verordnung zur Produktsicherheit
DESCRIPTION:Seit Mai 2023 ist die neue EU-Verordnung 2023/988 über die allgemeine Produktsicherheit in Kraft\, die ab dem 13. Dezember 2024 in allen EU-Mitgliedstaaten unmittelbar anzuwenden ist. Dieses Webinar bietet Euch eine Einführung in die wesentlichen Änderungen und Anforderungen dieser wichtigen neuen Regelung. \nFolgende Themen werden im Webinar angesprochen: \n\nÜberblick über die Verordnung und ihre unmittelbare Anwendbarkeit\nErläuterung der Pflichten von Herstellern und übrigen Wirtschaftsakteuren\nSpezifische Anforderungen an die Risikobewertung und technische Dokumentation\n\nZielgruppe: Hersteller\, Importeure\, Händler\, Fulfillment-Dienstleister und weitere Wirtschaftsakteure. \nDieses Webinar ist eine unverzichtbare Ressource für alle Wirtschaftsakteure\, die sicherstellen möchten\, dass ihre Produkte den neuesten EU-Standards entsprechen und sie sich rechtzeitig auf die kommenden Änderungen vorbereiten können. \nHier findet Ihr mehr Informationen zu der Veranstaltung.
URL:https://cms.munich-startup.net/en/event/online-bihk-webinar-implementation-of-the-new-eu-regulation-on-product-safety/
LOCATION:Online
ATTACH;FMTTYPE=image/png:https://cms.munich-startup.net/wp-content/uploads/2024/09/csm_logobihk.png
END:VEVENT
END:VCALENDAR