BEGIN:VCALENDAR
VERSION:2.0
PRODID:-//Munich Startup - ECPv5.5.0//NONSGML v1.0//EN
CALSCALE:GREGORIAN
METHOD:PUBLISH
X-WR-CALNAME:Munich Startup
X-ORIGINAL-URL:https://cms.munich-startup.net/en
X-WR-CALDESC:Events for Munich Startup
BEGIN:VTIMEZONE
TZID:Europe/Berlin
BEGIN:DAYLIGHT
TZOFFSETFROM:+0100
TZOFFSETTO:+0200
TZNAME:CEST
DTSTART:20240331T010000
END:DAYLIGHT
BEGIN:STANDARD
TZOFFSETFROM:+0200
TZOFFSETTO:+0100
TZNAME:CET
DTSTART:20241027T010000
END:STANDARD
END:VTIMEZONE
BEGIN:VEVENT
DTSTART;TZID=Europe/Berlin:20240913T130000
DTEND;TZID=Europe/Berlin:20240913T140000
DTSTAMP:20260426T013057
CREATED:20240801T074111Z
LAST-MODIFIED:20240801T074111Z
UID:103679-1726232400-1726236000@cms.munich-startup.net
SUMMARY:Online: BANDakademie „Female Angel Investing“ – Session III “GESSI”
DESCRIPTION:Female Angel Investing\nAuch 2024 bieten wir in Kooperation mit dem Verband deutscher Unternehmerinnen (VdU) wieder vier Lunch Sessions zu Themen rund um das (Female) Angel Investing an. VdU Invest setzt sich dafür ein\, dass mehr Unternehmerinnen zu Business Angels und Investorinnen werden – also genau das\, was BAND mit der Awareness-Kampagne “Women Angels Mission ’25” erreichen will. Ein “perfect match”. \nDie dritte Lunch Session am 13. September 2024 wird sich um das Thema Vertragswerke für Angels & Startups im Überblick: Die Standarddokumente des „German Standards Setting Instituts (GESSI)“ drehen. \nStandardverträge für Angel Investor*innen und Startups\nMit GESSI Standards schnell zum Ziel – wie Verträge für Business Angels und Startups schnell\, unkompliziert und kostengünstig funktionieren. \nErfahrt von zwei Partnern wie die Standardverträge zu nutzen sind\, welche es gibt und wie sie helfen können\, reibungslose Abwicklungen zu gestalten. Wie sieht die Praxis aus? Angel Investor*Innen und Startups berichten\, wie es mit den Verträgen funktioniert hat und an welchen Stellen sie ihnen das Leben erleichtert haben. Seid dabei und lernt\, wie hilfreich die individuell anpassbaren Vertragsdokumente in der Zusammenarbeit zwischen Business Angels und Startups sind! \nHier findet Ihr mehr Informationen zu der Veranstaltung.
URL:https://cms.munich-startup.net/en/event/online-band-academy-female-angel-investing-session-iii-gessi/
LOCATION:Online
ATTACH;FMTTYPE=image/jpeg:https://cms.munich-startup.net/wp-content/uploads/2024/08/BANDakademie-WAM25-Header_mit-VdU_2024.jpg
END:VEVENT
END:VCALENDAR