BEGIN:VCALENDAR
VERSION:2.0
PRODID:-//Munich Startup - ECPv5.5.0//NONSGML v1.0//EN
CALSCALE:GREGORIAN
METHOD:PUBLISH
X-WR-CALNAME:Munich Startup
X-ORIGINAL-URL:https://cms.munich-startup.net/en
X-WR-CALDESC:Events for Munich Startup
BEGIN:VTIMEZONE
TZID:Europe/Berlin
BEGIN:DAYLIGHT
TZOFFSETFROM:+0100
TZOFFSETTO:+0200
TZNAME:CEST
DTSTART:20240331T010000
END:DAYLIGHT
BEGIN:STANDARD
TZOFFSETFROM:+0200
TZOFFSETTO:+0100
TZNAME:CET
DTSTART:20241027T010000
END:STANDARD
END:VTIMEZONE
BEGIN:VEVENT
DTSTART;TZID=Europe/Berlin:20241119T090000
DTEND;TZID=Europe/Berlin:20241119T120000
DTSTAMP:20260425T222641
CREATED:20240117T121901Z
LAST-MODIFIED:20240117T121901Z
UID:97404-1732006800-1732017600@cms.munich-startup.net
SUMMARY:Online: All women - be entrepreneurial!
DESCRIPTION:Women Start-up Empowerment Training Series 2024: All women – be entrepreneurial! \nLooking for skill development\, networking opportunities and empowerment strategies?\nJoin us for this exciting online training and develop an entrepreneurial mindset that keeps you grounded and connected to your values even when things are tough.\nIf there is one thing you are certain to learn from it is this: The future is yours to create – be entrepreneurial! \nShout out to all aspiring women out there: It is your time to rise and shine! \nHack your mind and tap into your superpowers to create a lasting impact in your work\, your life\, and in the world. In our hands-on and interactive approach you will get familiar with agile tools and methods and learn from revolutionary female role models. \nWe invite all present and future female founders or students interested to develop their entrepreneurial thinking from all educational and professional backgrounds. \nHier findet Ihr mehr Informationen zu der Veranstaltung.
URL:https://cms.munich-startup.net/en/event/online-all-women-be-entrepreneurial/
LOCATION:Online
ATTACH;FMTTYPE=image/png:https://cms.munich-startup.net/wp-content/uploads/2024/01/UnternehmerTUM-logo-color-4.png
END:VEVENT
END:VCALENDAR