BEGIN:VCALENDAR
VERSION:2.0
PRODID:-//Munich Startup - ECPv5.5.0//NONSGML v1.0//EN
CALSCALE:GREGORIAN
METHOD:PUBLISH
X-WR-CALNAME:Munich Startup
X-ORIGINAL-URL:https://cms.munich-startup.net/en
X-WR-CALDESC:Events for Munich Startup
BEGIN:VTIMEZONE
TZID:Europe/Berlin
BEGIN:DAYLIGHT
TZOFFSETFROM:+0100
TZOFFSETTO:+0200
TZNAME:CEST
DTSTART:20250330T010000
END:DAYLIGHT
BEGIN:STANDARD
TZOFFSETFROM:+0200
TZOFFSETTO:+0100
TZNAME:CET
DTSTART:20251026T010000
END:STANDARD
END:VTIMEZONE
BEGIN:VEVENT
DTSTART;TZID=Europe/Berlin:20250306T180000
DTEND;TZID=Europe/Berlin:20250306T230000
DTSTAMP:20260425T165154
CREATED:20250225T131107Z
LAST-MODIFIED:20250225T131929Z
UID:108163-1741284000-1741302000@cms.munich-startup.net
SUMMARY:Networking Night for LGBTQ+ Founders and Investors
DESCRIPTION:We’re delighted to invite you to the LGBTQ+ Founders & Investors Networking Night in Munich! \n​Connect with LGBTQ+ founders and investors\, and allies at this exclusive event hosted by identity.vc. Whether you’re looking to expand your network\, find collaborators\, or simply share your entrepreneurial journey with like-minded individuals\, this is the perfect space to do so. The venue will be revealed closer to the event\, so stay tuned for more details. Limited spots available – be sure to register quickly. We can’t wait to see you there! \nHier findet Ihr mehr Informationen zu der Veranstaltung.
URL:https://cms.munich-startup.net/en/event/networking-night-for-lgbtq-founders-and-investors/
LOCATION:München\, München\, 80333
ATTACH;FMTTYPE=image/png:https://cms.munich-startup.net/wp-content/uploads/2025/02/LGBTQ-Founders-Investors-Networking-Night.png
GEO:48.1440989;11.5695525
END:VEVENT
END:VCALENDAR