BEGIN:VCALENDAR
VERSION:2.0
PRODID:-//Munich Startup - ECPv5.5.0//NONSGML v1.0//EN
CALSCALE:GREGORIAN
METHOD:PUBLISH
X-WR-CALNAME:Munich Startup
X-ORIGINAL-URL:https://cms.munich-startup.net/en
X-WR-CALDESC:Events for Munich Startup
BEGIN:VTIMEZONE
TZID:Europe/Berlin
BEGIN:DAYLIGHT
TZOFFSETFROM:+0100
TZOFFSETTO:+0200
TZNAME:CEST
DTSTART:20160327T010000
END:DAYLIGHT
BEGIN:STANDARD
TZOFFSETFROM:+0200
TZOFFSETTO:+0100
TZNAME:CET
DTSTART:20161030T010000
END:STANDARD
END:VTIMEZONE
BEGIN:VEVENT
DTSTART;VALUE=DATE:20161103
DTEND;VALUE=DATE:20161112
DTSTAMP:20260425T033613
CREATED:20161024T132242Z
LAST-MODIFIED:20220228T124954Z
UID:15493-1478131200-1478908799@cms.munich-startup.net
SUMMARY:Münchner Webwoche
DESCRIPTION:Die Münchner Webwoche wurde im Jahr 2012 das erste Mal durchgeführt. Sie wird getragen von Münchner Organisationen und Unternehmen\, die die digitale Wirtschaft am Standort München stärken und deren Akteure besser vernetzen wollen. \nEine Woche lang finden dazu an verschiedenen Standorten in München Veranstaltungen rund um die Themen Internet und Digitales statt. Die Events werden von den Organisationen selbst organisiert und durchgeführt. \nDie Münchner Webwoche ist eine Messe der etwas anderen Art. \nMehr als 60 Events\nIm Rahmen von mehr als 60 eigenständig organisierten Events rund um digitale Themen zeigen Münchner Organisationen\, Unternehmen\, Vereine und Verbände\, Freischaffende und Künstler\, wie München den digitalen Raum mitgestaltet. \nAbendempfang im Alten Rathaus\nDer zentrale Event der Münchner Webwoche ist auch 2016 wieder der traditionelle Rathausempfang\, der diesmal am 3. November stattfindet. Auf Einladung der Landeshauptstadt München treffen sich Young Professionals\, Gründer\, Unternehmer\, Blogger und viele mehr\, um sich kennen zu lernen und über digitale Themen zu diskutieren. Die Keynote zum Thema Digital Leadership hält Christiane Brandes-Visbeck\, Unternehmensberaterin\, Autorin und Leiterin des Hamburger Quartiers der Digital Media Women. Auf dem Abendempfang wird auch der Isarnetz-Blog-Award verliehen\, für den es bereits mehr als 200 Nominierungen gibt. \nIsarcamp: Konferenz der Besucher\nDas Isarcamp am 5. November lockt mit spannenden Impulsvorträgen unter anderem von M-Net und Uniscon. Dann aber stehen die Besucher im Mittelpunkt\, gestalten ihre eigene Agenda und halten Vorträge und Sessions selbst. \nApp und Programmheft für Besucher\nBesucher können sich auf der Website der Münchner Webwoche im Eventkalender über alle Events informieren. Der Eventkalender wird als zentrale Anlaufstelle von der App „miitya“ ergänzt\, mit der Events und Eventteilnehmer in der Nähe gefunden werden können. Außerdem gibt es auch in diesem Jahr wieder ein Programmheft als PDF\, das auch auf vielen Events der Münchner Webwoche ausliegen wird.
URL:https://cms.munich-startup.net/en/event/munich-web-week/
ATTACH;FMTTYPE=image/png:https://cms.munich-startup.net/wp-content/uploads/2016/10/münchner-webwoche.png
END:VEVENT
END:VCALENDAR