BEGIN:VCALENDAR
VERSION:2.0
PRODID:-//Munich Startup - ECPv5.5.0//NONSGML v1.0//EN
CALSCALE:GREGORIAN
METHOD:PUBLISH
X-WR-CALNAME:Munich Startup
X-ORIGINAL-URL:https://cms.munich-startup.net/en
X-WR-CALDESC:Events for Munich Startup
BEGIN:VTIMEZONE
TZID:Europe/Berlin
BEGIN:DAYLIGHT
TZOFFSETFROM:+0100
TZOFFSETTO:+0200
TZNAME:CEST
DTSTART:20240331T010000
END:DAYLIGHT
BEGIN:STANDARD
TZOFFSETFROM:+0200
TZOFFSETTO:+0100
TZNAME:CET
DTSTART:20241027T010000
END:STANDARD
END:VTIMEZONE
BEGIN:VEVENT
DTSTART;TZID=Europe/Berlin:20241127T180000
DTEND;TZID=Europe/Berlin:20241127T220000
DTSTAMP:20260425T210519
CREATED:20240911T123513Z
LAST-MODIFIED:20240911T123513Z
UID:104642-1732730400-1732744800@cms.munich-startup.net
SUMMARY:Münchener Startup Demo Night und Preisverleihung Energie Startup Bayern 2024
DESCRIPTION:Innovationen zum Anfassen und Ausprobieren \nAuf einem der größten Events der Münchener Gründerszene präsentieren rund 70 Startups live an Ausstellerständen ihre innovativen Lösungen und Prototypen. Alle Branchen sind vertreten – von HighTech über Bio Sciences\, IoT\, Mobilität\, Lifestyle oder Gesundheit bis Sport. \n\nLerne eine Vielzahl spannender Startups unterschiedlichster Branchen kennen\nProbiere die Ideen und Produkte selbst aus\nTritt mit Gründerteams\, Kapitalgebern und Unternehmensvertretern in entspannter Networking-Atmosphäre in Kontakt\n\nIn diesem Rahmen wird auch die Preisverleihung von Energie Startup Bayern 2024 stattfinden. \nHier findet Ihr mehr Informationen zu der Veranstaltung.
URL:https://cms.munich-startup.net/en/event/munich-startup-demo-night-and-energy-startup-bavaria-2024-awards-ceremony/
LOCATION:TonHalle\, Atelierstraße 24\, München\, 81671
ATTACH;FMTTYPE=image/png:https://cms.munich-startup.net/wp-content/uploads/2024/09/BayStartUP_Logotype_pos_RGB.png
GEO:48.1237883;11.6088206
X-APPLE-STRUCTURED-LOCATION;VALUE=URI;X-ADDRESS=TonHalle Atelierstraße 24 München 81671;X-APPLE-RADIUS=500;X-TITLE=Atelierstraße 24:geo:11.6088206,48.1237883
END:VEVENT
END:VCALENDAR