BEGIN:VCALENDAR
VERSION:2.0
PRODID:-//Munich Startup - ECPv5.5.0//NONSGML v1.0//EN
CALSCALE:GREGORIAN
METHOD:PUBLISH
X-WR-CALNAME:Munich Startup
X-ORIGINAL-URL:https://cms.munich-startup.net/en
X-WR-CALDESC:Events for Munich Startup
BEGIN:VTIMEZONE
TZID:Europe/Berlin
BEGIN:DAYLIGHT
TZOFFSETFROM:+0100
TZOFFSETTO:+0200
TZNAME:CEST
DTSTART:20240331T010000
END:DAYLIGHT
BEGIN:STANDARD
TZOFFSETFROM:+0200
TZOFFSETTO:+0100
TZNAME:CET
DTSTART:20241027T010000
END:STANDARD
END:VTIMEZONE
BEGIN:VEVENT
DTSTART;TZID=Europe/Berlin:20241023T130000
DTEND;TZID=Europe/Berlin:20241025T140000
DTSTAMP:20260426T000013
CREATED:20231011T063548Z
LAST-MODIFIED:20231011T063548Z
UID:95108-1729688400-1729864800@cms.munich-startup.net
SUMMARY:Munich New Space Summit 2024
DESCRIPTION:Die Erforschung des Weltraums stellt seit jeher eine Quelle der Faszination und des Staunens für die Menschheit dar. Doch mit dem rasanten technologischen Fortschritt und dem Aufkommen neuer Akteure in der Raumfahrtindustrie erleben wir jetzt eine neue Ära der Weltraumforschung und -kommerzialisierung\, in der Regierungen\, Privatunternehmen und Einzelpersonen ihre Kräfte bündeln\, um die Raumfahrtindustrie zu revolutionieren. Die Verbreitung neuer Weltraum-Startups und -Initiativen\, gepaart mit technologischem Fortschritt sowie neuen Geschäfts- und Finanzierungsmodellen\, hat neue Möglichkeiten eröffnet und die Grenzen dessen\, was in der Weltraumnutzung möglich ist\, neu definiert.. \nDer Munich New Space Summit 2024 bietet die Gelegenheit\, tiefer in die neuesten Entwicklungen in der Weltraumtechnologie\, der Erforschung\, dem Unternehmertum sowie rechtlichen Aspekten einzutauchen und bietet eine ideale Plattform\, um die Herausforderungen und Chancen dieser neuen Ära der Weltraumforschung zu diskutieren\, Ideen und Erkenntnisse auszutauschen\, und mögliche Partnerschaften und Kooperationen auszuloten. Ein wichtiger Teil der Konferenz ist auch der Ausstellungsbereich\, in dem sich während der gesamten Veranstaltung Unternehmen aus dem New Space-Bereich präsentieren. Die Teilnehmer haben die Möglichkeit\, von einigen der klügsten Köpfe aus Industrie\, Forschung\, Politik und Programmfragen zu lernen. Dieser Gipfel wird ein Katalysator für das weitere Wachstum und die Entwicklung der Raumfahrtindustrie sein. \nHier findet Ihr mehr Informationen zu der Veranstaltung.
URL:https://cms.munich-startup.net/en/event/munich-new-space-summit-2024/
LOCATION:Science Congress Center\, Walther-von-Dyck-Str. 10\, Garching\, 85748
ATTACH;FMTTYPE=image/jpeg:https://cms.munich-startup.net/wp-content/uploads/2023/10/Logo_Munich-New-Space-Summit_2024_CMYK.jpg
END:VEVENT
END:VCALENDAR