BEGIN:VCALENDAR
VERSION:2.0
PRODID:-//Munich Startup - ECPv5.5.0//NONSGML v1.0//EN
CALSCALE:GREGORIAN
METHOD:PUBLISH
X-WR-CALNAME:Munich Startup
X-ORIGINAL-URL:https://cms.munich-startup.net/en
X-WR-CALDESC:Events for Munich Startup
BEGIN:VTIMEZONE
TZID:Europe/Berlin
BEGIN:DAYLIGHT
TZOFFSETFROM:+0100
TZOFFSETTO:+0200
TZNAME:CEST
DTSTART:20180325T010000
END:DAYLIGHT
BEGIN:STANDARD
TZOFFSETFROM:+0200
TZOFFSETTO:+0100
TZNAME:CET
DTSTART:20181028T010000
END:STANDARD
END:VTIMEZONE
BEGIN:VEVENT
DTSTART;TZID=Europe/Berlin:20181120T130000
DTEND;TZID=Europe/Berlin:20181120T190000
DTSTAMP:20260424T183742
CREATED:20170711T073118Z
LAST-MODIFIED:20181227T143616Z
UID:39851-1542718800-1542740400@cms.munich-startup.net
SUMMARY:Munich Investment Forum 2018
DESCRIPTION:Über 20 Startup Pitches in unter 4 Stunden? Das bietet nur das Munich Investment Forum von Fraunhofer Venture. Am 20. November 2018 treffen sich bereits zum 14. Mal Gründer\, Investoren und andere Gestalter der Startup Szene bei einem einzigartigen Event. \nZusammen mit den drei Gründerzentren der Münchner Hochschulen – LMU Entrepreneurship Center\, Strascheg Center for Entrepreneurship und UnternehmerTUM – bietet das Munich Investment Forum für Kapitalgeber eine Vielzahl innovativer High-Tech-Geschäftsmodelle\, -Teams und -Startups in einem kompakten Event-Format. Neben klassischen Venture Capital sind auch Corporate Venture Capital Investoren und Business Angels herzlich eingeladen. \nDie Gründerteams stellen persönlich Geschäftsideen vor\, die sich noch in frühen Phasen befinden\, oder bereits den Markteintritt vollzogen haben. Bei den Pitch-Sessions und den 90-sekündigen Speedpitches geben die Entrepreneure ersten Einblick in ihr Vorhaben. Das Get-together lädt zu vertiefenden Gesprächen ein. \nHier findet Ihr mehr Informationen zu der Veranstaltung.
URL:https://cms.munich-startup.net/en/event/munich-investment-forum-2018/
LOCATION:Fraunhofer Haus\, Hansastraße 27c\, München\, 80686
ATTACH;FMTTYPE=image/png:https://cms.munich-startup.net/wp-content/uploads/2017/07/1526640086322_Webheader.png
GEO:48.1323241;11.5298207
X-APPLE-STRUCTURED-LOCATION;VALUE=URI;X-ADDRESS=Fraunhofer Haus Hansastraße 27c München 80686;X-APPLE-RADIUS=500;X-TITLE=Hansastraße 27c:geo:11.5298207,48.1323241
END:VEVENT
END:VCALENDAR