BEGIN:VCALENDAR
VERSION:2.0
PRODID:-//Munich Startup - ECPv5.5.0//NONSGML v1.0//EN
CALSCALE:GREGORIAN
METHOD:PUBLISH
X-WR-CALNAME:Munich Startup
X-ORIGINAL-URL:https://cms.munich-startup.net/en
X-WR-CALDESC:Events for Munich Startup
BEGIN:VTIMEZONE
TZID:Europe/Berlin
BEGIN:DAYLIGHT
TZOFFSETFROM:+0100
TZOFFSETTO:+0200
TZNAME:CEST
DTSTART:20250330T010000
END:DAYLIGHT
BEGIN:STANDARD
TZOFFSETFROM:+0200
TZOFFSETTO:+0100
TZNAME:CET
DTSTART:20251026T010000
END:STANDARD
END:VTIMEZONE
BEGIN:VEVENT
DTSTART;TZID=Europe/Berlin:20250610T164500
DTEND;TZID=Europe/Berlin:20250610T190000
DTSTAMP:20260425T122824
CREATED:20250520T132026Z
LAST-MODIFIED:20250520T132732Z
UID:109866-1749573900-1749582000@cms.munich-startup.net
SUMMARY:Munich Impact Co-Founder Matching
DESCRIPTION:Are you passionate about creating a positive ecological or social impact? Do you have a groundbreaking idea but need a like-minded partner to bring it to life? You are enthusiastic about impact founding\, but you are missing the right idea? Welcome to our Impact Startup Co-Founder Meetup Group\, where visionaries like you come together to forge powerful partnerships and drive meaningful change! \nThis is an independent initiative designed to facilitate co-founder matching across universities\, companies\, and beyond. Whether you’re a student\, researcher\, corporate professional\, or entrepreneur\, the goal is to connect people from diverse backgrounds who share the ambition to launch impactful startups. \nThere will be regular events where we match up potential co-founders that want to change the world. \nHier findet Ihr mehr Informationen zu der Veranstaltung.
URL:https://cms.munich-startup.net/en/event/munich-impact-co-founder-matching-0625/
LOCATION:CK Workspace München\, Gröbenzeller Str. 40\, München\, 80997\, Germany
ATTACH;FMTTYPE=image/jpeg:https://cms.munich-startup.net/wp-content/uploads/2025/05/color_splash.jpg
END:VEVENT
END:VCALENDAR