BEGIN:VCALENDAR
VERSION:2.0
PRODID:-//Munich Startup - ECPv5.5.0//NONSGML v1.0//EN
CALSCALE:GREGORIAN
METHOD:PUBLISH
X-WR-CALNAME:Munich Startup
X-ORIGINAL-URL:https://cms.munich-startup.net/en
X-WR-CALDESC:Events for Munich Startup
BEGIN:VTIMEZONE
TZID:Europe/Berlin
BEGIN:DAYLIGHT
TZOFFSETFROM:+0100
TZOFFSETTO:+0200
TZNAME:CEST
DTSTART:20240331T010000
END:DAYLIGHT
BEGIN:STANDARD
TZOFFSETFROM:+0200
TZOFFSETTO:+0100
TZNAME:CET
DTSTART:20241027T010000
END:STANDARD
END:VTIMEZONE
BEGIN:VEVENT
DTSTART;TZID=Europe/Berlin:20240625T100000
DTEND;TZID=Europe/Berlin:20240625T120000
DTSTAMP:20260426T054149
CREATED:20240412T081840Z
LAST-MODIFIED:20240412T081840Z
UID:99639-1719309600-1719316800@cms.munich-startup.net
SUMMARY:Munich Founder Coffee
DESCRIPTION:Munich Founder Coffee – Founders Talk mit der Startup-Verband Landesgruppe Bayern in München \nFür die gegenseitige Unterstützung unter Gründer*innen möchten wir eine Plattform bieten. Deshalb laden wir euch zu einem offenen und ehrlichen Austausch ein.\nIn gewohnt entspannter Atmosphäre wollen wir mit euch über Erfahrungen\, Herausforderungen und Erfolge sprechen\, um voneinander lernen zu können. Wir freuen uns außerdem\, mehr über eure Anliegen\, Vorstellungen und Vorschläge rund um das Startup Ökosystem in Bayern zu erfahren. \nLasst uns zusammenkommen\, um uns gegenseitig zu motivieren\, Ideen zu brainstormen und hilfreiche Kontakte zu knüpfen. \nHier findet Ihr mehr Informationen zu der Veranstaltung.
URL:https://cms.munich-startup.net/en/event/munich-founder-coffee/
LOCATION:Bellevue di Monaco\, Müllerstraße 2\, München\, 80469
ATTACH;FMTTYPE=image/jpeg:https://cms.munich-startup.net/wp-content/uploads/2024/04/Munich-Founder-Coffee.jpg
END:VEVENT
END:VCALENDAR