BEGIN:VCALENDAR
VERSION:2.0
PRODID:-//Munich Startup - ECPv5.5.0//NONSGML v1.0//EN
CALSCALE:GREGORIAN
METHOD:PUBLISH
X-WR-CALNAME:Munich Startup
X-ORIGINAL-URL:https://cms.munich-startup.net/en
X-WR-CALDESC:Events for Munich Startup
BEGIN:VTIMEZONE
TZID:Europe/Berlin
BEGIN:DAYLIGHT
TZOFFSETFROM:+0100
TZOFFSETTO:+0200
TZNAME:CEST
DTSTART:20250330T010000
END:DAYLIGHT
BEGIN:STANDARD
TZOFFSETFROM:+0200
TZOFFSETTO:+0100
TZNAME:CET
DTSTART:20251026T010000
END:STANDARD
END:VTIMEZONE
BEGIN:VEVENT
DTSTART;TZID=Europe/Berlin:20250407T170000
DTEND;TZID=Europe/Berlin:20250407T190000
DTSTAMP:20260425T151640
CREATED:20250327T071202Z
LAST-MODIFIED:20250327T071202Z
UID:108796-1744045200-1744052400@cms.munich-startup.net
SUMMARY:Munich Co-Founder Matching
DESCRIPTION:Munich Co-Founder Matching is the place where entrepreneurs\, visionaries\, and makers meet to find the perfect co-founder to bring bold ideas to life. \nWhether you are:\nAn aspiring founder with a game-changing idea\, searching for the right person to help you build it\,\nAn early-stage startup looking for additional co-founders to complete your founding team\,\nA talented individual without a specific idea yet\, but eager to join forces with others and co-create a venture from scratch…\nYou’re in the right place. \nJoin us on April 7\, 2025\, for an inspiring evening with a structured meeting concept\, meaningful conversations\, and real connections. You’ll meet like-minded people\, share your vision or skills\, and take the first step toward building something amazing together. \nAgenda Munich Co-Founder Matching:\n17:00 – 17:15: Arrival time\n17:15 – 17:30: Introduction BASE and introduction to matchmaking\n17:30 – 18:15: First matching round\n18:15 – 19:00: Second matching round \nIf you know someone interested in this event\, share the event/group page or bring them as a guest. Please help to spread the word about the group! \nLet’s make startup magic happen — together. \nHier findet Ihr mehr Informationen zu der Veranstaltung.
URL:https://cms.munich-startup.net/en/event/munich-co-founder-matching/
LOCATION:BASE Co-Working\, Blütenstraße 15\, München\, 80799
ATTACH;FMTTYPE=image/jpeg:https://cms.munich-startup.net/wp-content/uploads/2025/03/people_talking_smaller2.jpg
END:VEVENT
END:VCALENDAR