BEGIN:VCALENDAR
VERSION:2.0
PRODID:-//Munich Startup - ECPv5.5.0//NONSGML v1.0//EN
CALSCALE:GREGORIAN
METHOD:PUBLISH
X-WR-CALNAME:Munich Startup
X-ORIGINAL-URL:https://cms.munich-startup.net/en
X-WR-CALDESC:Events for Munich Startup
BEGIN:VTIMEZONE
TZID:Europe/Berlin
BEGIN:DAYLIGHT
TZOFFSETFROM:+0100
TZOFFSETTO:+0200
TZNAME:CEST
DTSTART:20260329T010000
END:DAYLIGHT
BEGIN:STANDARD
TZOFFSETFROM:+0200
TZOFFSETTO:+0100
TZNAME:CET
DTSTART:20261025T010000
END:STANDARD
END:VTIMEZONE
BEGIN:VEVENT
DTSTART;TZID=Europe/Berlin:20260414T180000
DTEND;TZID=Europe/Berlin:20260414T210000
DTSTAMP:20260424T143443
CREATED:20260316T111437Z
LAST-MODIFIED:20260316T111437Z
UID:118106-1776189600-1776200400@cms.munich-startup.net
SUMMARY:Munich Co-Founder Matching / Find your Co-Founder
DESCRIPTION:Munich Co-Founder Matching. This is the place where entrepreneurs\, visionaries\, and makers meet to find the perfect co-founder to bring bold ideas to life. \nWhether you are: \n\nAn aspiring founder with a game-changing idea\, searching for the right person to help you build it\,\nAn early-stage startup looking for additional co-founders to complete your founding team\,\nA talented individual without a specific idea yet\, but eager to join forces with others and co-create a venture from scratch…\nYou’re in the right place.\n\nJoin us for an inspiring evening with a structured meeting concept\, meaningful conversations\, and real connections. You’ll meet like-minded people\, share your vision or skills\, and take the first step toward building something amazing together. \nAgenda:\n17:45 – 18:00: Doors open and arrival time\n18:00 – 18:15: Introduction to the venue and introduction to matchmaking\n18:15 – 19:00: First matching round\n19:00 – 20:00: Second matching round\n20:00 – 20:45 Networking \nHier findet Ihr mehr Informationen zu der Veranstaltung. 
URL:https://cms.munich-startup.net/en/event/munich-co-founder-matching-find-your-co-founder-0426/
LOCATION:Strascheg Center for Entrepreneurship (SCE)\, Heßstraße 89\, München\, 80797
ATTACH;FMTTYPE=image/jpeg:https://cms.munich-startup.net/wp-content/uploads/2026/03/meetup_banner.jpg
GEO:48.1539667;11.5576473
X-APPLE-STRUCTURED-LOCATION;VALUE=URI;X-ADDRESS=Strascheg Center for Entrepreneurship (SCE) Heßstraße 89 München 80797;X-APPLE-RADIUS=500;X-TITLE=Heßstraße 89:geo:11.5576473,48.1539667
END:VEVENT
END:VCALENDAR