BEGIN:VCALENDAR
VERSION:2.0
PRODID:-//Munich Startup - ECPv5.5.0//NONSGML v1.0//EN
CALSCALE:GREGORIAN
METHOD:PUBLISH
X-WR-CALNAME:Munich Startup
X-ORIGINAL-URL:https://cms.munich-startup.net/en
X-WR-CALDESC:Events for Munich Startup
BEGIN:VTIMEZONE
TZID:Europe/Berlin
BEGIN:DAYLIGHT
TZOFFSETFROM:+0100
TZOFFSETTO:+0200
TZNAME:CEST
DTSTART:20250330T010000
END:DAYLIGHT
BEGIN:STANDARD
TZOFFSETFROM:+0200
TZOFFSETTO:+0100
TZNAME:CET
DTSTART:20251026T010000
END:STANDARD
END:VTIMEZONE
BEGIN:VEVENT
DTSTART;TZID=Europe/Berlin:20250325T160000
DTEND;TZID=Europe/Berlin:20250325T190000
DTSTAMP:20260425T164337
CREATED:20250305T083813Z
LAST-MODIFIED:20250305T083813Z
UID:108337-1742918400-1742929200@cms.munich-startup.net
SUMMARY:Meet the City: Auftaktveranstaltung Zero Waste Innovation Hub
DESCRIPTION:Das Referat für Arbeit und Wirtschaft lädt herzlich zur Auftaktveranstaltung des neuen Zero Waste Innovation Hubs ein! \nDer Zero Waste Innovation Hub ist ein neues Angebot des Referats für Arbeit und Wirtschaft der Landeshauptstadt München für Münchner Unternehmen und Startups. Ziel des im Munich Urban Colab ansässigen und von CIRCULAR REPUBLIC\, Circular Munich und sustainable AG durchgeführten Projekts ist es\, innovative Ansätze zu Zero Waste\, Steigerung der Ressourceneffizienz und Kreislaufwirtschaft in der Münchner Wirtschaft zu fördern\, zu erproben und München auf dem Weg zur Klimaneutralität und Zero Waste City zu unterstützen. Lasst Euch vom neuen Angebot der Wirtschaftsförderung überzeugen und lernt die verschiedenen Inhalte kennen. \nAgenda:\n\nab 16 Uhr Begrüßung durch Claudia Frey\, Geschäftsführerin Munich Urban Colab\, Jacqueline Charlier\, Kommunalreferentin der Landeshauptstadt München und Dr. Christian Scharpf\, Referent für Arbeit und Wirtschaft der Landeshauptstadt München\nKeynote von  Prof. Dr. Jan-Diederich Lüken\, Studiengangsleiter Circular Economy\, Technische Hochschule Rosenheim\nVorstellung des Zero Waste Innovation Hubs\nImpulse & Panel-Diskussion\nab 18 Uhr Networking & Ausklang\n\nDie Auftaktveranstaltung findet im Rahmen der Veranstaltungsreihe „Meet the City“ statt\, die von der Landeshauptstadt München ins Leben gerufen wurde und regelmäßig Einblicke in innovative städtische Projekte gibt. Der Zero Waste Innovation Hub ist eine Maßnahme des Zero Waste Konzepts. \nHier findet Ihr mehr Informationen zu der Veranstaltung.
URL:https://cms.munich-startup.net/en/event/meet-the-city-launch-event-zero-waste-innovation-hub/
LOCATION:Munich Urban Colab\, Freddie-Mercury-Straße 5\, München\, 80797
END:VEVENT
END:VCALENDAR