BEGIN:VCALENDAR
VERSION:2.0
PRODID:-//Munich Startup - ECPv5.5.0//NONSGML v1.0//EN
CALSCALE:GREGORIAN
METHOD:PUBLISH
X-WR-CALNAME:Munich Startup
X-ORIGINAL-URL:https://cms.munich-startup.net/en
X-WR-CALDESC:Events for Munich Startup
BEGIN:VTIMEZONE
TZID:Europe/Berlin
BEGIN:DAYLIGHT
TZOFFSETFROM:+0100
TZOFFSETTO:+0200
TZNAME:CEST
DTSTART:20170326T010000
END:DAYLIGHT
BEGIN:STANDARD
TZOFFSETFROM:+0200
TZOFFSETTO:+0100
TZNAME:CET
DTSTART:20171029T010000
END:STANDARD
END:VTIMEZONE
BEGIN:VEVENT
DTSTART;TZID=Europe/Berlin:20170307T160000
DTEND;TZID=Europe/Berlin:20170307T210000
DTSTAMP:20260425T010625
CREATED:20161212T101207Z
LAST-MODIFIED:20210412T211602Z
UID:17216-1488902400-1488920400@cms.munich-startup.net
SUMMARY:MCBW START UP – Creative Demo Night
DESCRIPTION:Showcase your product!\nZum dritten Mal machen 2017 in der von bayern design kuratierten Produkt- und Konzeptshow ca. 40 Startups\, professionelle Agenturen sowie Nachwuchsdesigner ihre Innovationen vor Ort erfahrbar. In lebendiger Atmosphäre tauschen sich die Aussteller mit einem Fachpublikum und mit Designinteressierten über ihre Projekte aus. Man erhält einen spannenden Überblick über aktuelle Trends und Themen der kreativen Nachwuchs- und Startup-Szene. Let’s move business! \nAgenda\nDoors open: 16:00 \nEröffnung MCBW START UP & Pitches: 16:30 – 17:00 \nCreative Demo Night: 17:00 – 21:00 \nDoors close: 22:00 \nHier findet Ihr mehr Informationen zu der Veranstaltung.
URL:https://cms.munich-startup.net/en/event/mcbw-start-up-creative-demo-night-2/
LOCATION:Muffathalle\, Zellstraße 4\, München\, 81667
ATTACH;FMTTYPE=image/jpeg:https://cms.munich-startup.net/wp-content/uploads/2016/11/munich-creative-business-week-mcbw-2017.jpg
GEO:48.13321;11.58971
X-APPLE-STRUCTURED-LOCATION;VALUE=URI;X-ADDRESS=Muffathalle Zellstraße 4 München 81667;X-APPLE-RADIUS=500;X-TITLE=Zellstraße 4:geo:11.58971,48.13321
END:VEVENT
END:VCALENDAR