BEGIN:VCALENDAR
VERSION:2.0
PRODID:-//Munich Startup - ECPv5.5.0//NONSGML v1.0//EN
CALSCALE:GREGORIAN
METHOD:PUBLISH
X-WR-CALNAME:Munich Startup
X-ORIGINAL-URL:https://cms.munich-startup.net/en
X-WR-CALDESC:Events for Munich Startup
BEGIN:VTIMEZONE
TZID:Europe/Berlin
BEGIN:DAYLIGHT
TZOFFSETFROM:+0100
TZOFFSETTO:+0200
TZNAME:CEST
DTSTART:20170326T010000
END:DAYLIGHT
BEGIN:STANDARD
TZOFFSETFROM:+0200
TZOFFSETTO:+0100
TZNAME:CET
DTSTART:20171029T010000
END:STANDARD
END:VTIMEZONE
BEGIN:VEVENT
DTSTART;TZID=Europe/Berlin:20170506T100000
DTEND;TZID=Europe/Berlin:20170507T180000
DTSTAMP:20260425T033615
CREATED:20170306T141555Z
LAST-MODIFIED:20240410T073544Z
UID:20643-1494064800-1494180000@cms.munich-startup.net
SUMMARY:Make Munich 2017
DESCRIPTION:Die Make Munich ist Süddeutschlands größtes Maker- und Do It Yourself Festival. Auf dem zweitägigen Event präsentieren die innovations-\, umweltbewussten und technikbegeisterten Maker ihre Kultur und Technologien auf Messeständen\, Vorträgen und Mitmach-Workshops. \nDas Motto 2017 ist „Making Connections“. Die Make Munich ist die Messe für Trends und Innovationen aus den Bereichen High-Tech-Do-It-Yourself (DIY)\, 3D-Druck\, Robotik\, Hardware-Startups\, Wearables und Technik-Kultur. Es ist das Präsentations- und  Austauschforum für Maker\, Bastler\, Elektronik-Geeks\, Designer. \nHier findet Ihr mehr Informationen zu der Veranstaltung.
URL:https://cms.munich-startup.net/en/event/make-munich-2017/
LOCATION:Zenith – Die Kulturhalle\, Lilienthalallee 29\, München\, 80939
ATTACH;FMTTYPE=image/jpeg:https://cms.munich-startup.net/wp-content/uploads/2017/03/logo-make-munich-e1488809710816.jpg
END:VEVENT
END:VCALENDAR