BEGIN:VCALENDAR
VERSION:2.0
PRODID:-//Munich Startup - ECPv5.5.0//NONSGML v1.0//EN
CALSCALE:GREGORIAN
METHOD:PUBLISH
X-WR-CALNAME:Munich Startup
X-ORIGINAL-URL:https://cms.munich-startup.net/en
X-WR-CALDESC:Events for Munich Startup
BEGIN:VTIMEZONE
TZID:Europe/Berlin
BEGIN:DAYLIGHT
TZOFFSETFROM:+0100
TZOFFSETTO:+0200
TZNAME:CEST
DTSTART:20240331T010000
END:DAYLIGHT
BEGIN:STANDARD
TZOFFSETFROM:+0200
TZOFFSETTO:+0100
TZNAME:CET
DTSTART:20241027T010000
END:STANDARD
END:VTIMEZONE
BEGIN:VEVENT
DTSTART;TZID=Europe/Berlin:20240613T103000
DTEND;TZID=Europe/Berlin:20240613T120000
DTSTAMP:20260426T055148
CREATED:20240220T072154Z
LAST-MODIFIED:20240220T072154Z
UID:98078-1718274600-1718280000@cms.munich-startup.net
SUMMARY:Online: Leadership: Teams selbstsicher\, klar und vertrauensvoll leiten
DESCRIPTION:gate-Academy Workshop „Leadership: Teams selbstsicher\, klar und vertrauensvoll leiten“ in Zusammenarbeit mit Lisa Hyna \nEin Team zu führen ist für viele Gründer*innen eine neue Herausforderung. Für technische und fachliche Schwierigkeiten gibt es meist rationale Lösungen\, die man sich mit Fleiß und Leistung erarbeiten kann. \nBeim Thema Teamleitung macht jedoch die Reife der Führungspersönlichkeit den Unterschied. Vor allem im Startup-Umfeld können durch die oft raschen Veränderungen und hohen Anforderungen an alle Mitarbeitenden leichter Konflikte und Spannungen auftreten. Im stressigen Arbeitsalltag bleibt dabei meist zu wenig Zeit für Reflexion und Analyse der Problemfelder. Geschweige denn\, um eine persönlichkeitsbasierte Lösung zu finden\, die sich leicht integrieren lässt. \nIm Workshop mit Lisa Hyna erfahren die Teilnehmer*innen\, wie sie ihren Führungsstil selbstsicher anhand ihrer individuellen Persönlichkeit authentisch entwickeln: \n\nLeitfaden wertebasiertes Leadership\nÜbung zur Verkörperung der Führungspersönlichkeit\nMethodik für Entscheidungsfindung\nFokus auf das Zwischenmenschliche im Business\nStrategie für authentische und empathische Führung\n\nHier findet Ihr mehr Informationen zu der Veranstaltung.
URL:https://cms.munich-startup.net/en/event/lead-online-leadership-teams-confidently-clearly-and-with-trust/
LOCATION:Online
ATTACH;FMTTYPE=image/jpeg:https://cms.munich-startup.net/wp-content/uploads/2024/02/gate-Academy-Eventbrite_leadership_Lisa-Hyna.jpg
END:VEVENT
END:VCALENDAR