BEGIN:VCALENDAR
VERSION:2.0
PRODID:-//Munich Startup - ECPv5.5.0//NONSGML v1.0//EN
CALSCALE:GREGORIAN
METHOD:PUBLISH
X-WR-CALNAME:Munich Startup
X-ORIGINAL-URL:https://cms.munich-startup.net/en
X-WR-CALDESC:Events for Munich Startup
BEGIN:VTIMEZONE
TZID:Europe/Berlin
BEGIN:DAYLIGHT
TZOFFSETFROM:+0100
TZOFFSETTO:+0200
TZNAME:CEST
DTSTART:20160327T010000
END:DAYLIGHT
BEGIN:STANDARD
TZOFFSETFROM:+0200
TZOFFSETTO:+0100
TZNAME:CET
DTSTART:20161030T010000
END:STANDARD
END:VTIMEZONE
BEGIN:VEVENT
DTSTART;TZID=Europe/Berlin:20160412T183000
DTEND;TZID=Europe/Berlin:20160412T220000
DTSTAMP:20260424T201336
CREATED:20160331T072423Z
LAST-MODIFIED:20220411T070703Z
UID:9321-1460485800-1460498400@cms.munich-startup.net
SUMMARY:Launchpad Open Night
DESCRIPTION:We invite you to join us for Launchpad Open Night at WERK1\nHosted by: Dr. Franz Glatz (Founder & Managing Director WERK1) and Katharina Lindenthal (Developer Relations Lead Germany) \nDuring the second week of April\, WERK1 is hosting 14 startups as part of the Google Developers Launchpad event. Successful entrepreneurs and specialists in the areas of product management\, UX/UI\, engineering and marketing are joining as startup mentors. \nGoogle Launchpad is a one-week boot camp for early stage startups. Each day is dedicated to a specific topic and structured around overview talks and one-on-one mentorships sessions. The goal is to achieve rapid progress in a very short time. \nOn Tuesday\, April 12th\, WERK1 – together with Google Launchpad – will open its doors to the Munich startup scene for drinks\, networking and discussions on what it takes to launch a successful startup.\nKatharina Lindenthal (Developer Relations Lead Germany) will also introduce the Launchpad program and how it aims to help startups. \nWe hope you can join us for this exciting evening! \n 
URL:https://cms.munich-startup.net/en/event/launchpad-open-night/
LOCATION:WERK1\, Am Kartoffelgarten 14\, München\, 81671\, Germany
END:VEVENT
END:VCALENDAR