BEGIN:VCALENDAR
VERSION:2.0
PRODID:-//Munich Startup - ECPv5.5.0//NONSGML v1.0//EN
CALSCALE:GREGORIAN
METHOD:PUBLISH
X-WR-CALNAME:Munich Startup
X-ORIGINAL-URL:https://cms.munich-startup.net/en
X-WR-CALDESC:Events for Munich Startup
BEGIN:VTIMEZONE
TZID:Europe/Berlin
BEGIN:DAYLIGHT
TZOFFSETFROM:+0100
TZOFFSETTO:+0200
TZNAME:CEST
DTSTART:20250330T010000
END:DAYLIGHT
BEGIN:STANDARD
TZOFFSETFROM:+0200
TZOFFSETTO:+0100
TZNAME:CET
DTSTART:20251026T010000
END:STANDARD
END:VTIMEZONE
BEGIN:VEVENT
DTSTART;TZID=Europe/Berlin:20250220T100000
DTEND;TZID=Europe/Berlin:20250220T120000
DTSTAMP:20260425T181545
CREATED:20241025T072417Z
LAST-MODIFIED:20241025T072450Z
UID:105459-1740045600-1740052800@cms.munich-startup.net
SUMMARY:Arbeitsrecht leicht gemacht: Wie Du Dein Startup rechtssicher aufstellst
DESCRIPTION:gate-Academy mit Dr. Julia Pfrogner: Arbeitsrecht für Startup-Founder \nIn diesem live Workshop erfährst Du wichtige Grundlagen im Arbeitsrecht. \nProfitiere von praxisnahen Tipps und stelle Deine Fragen direkt an unsere Expertin Dr. Julia Pfrogner. Tausche Dich mit anderen Startup-Founder*innen aus und bringe Dein Startup auf das nächste Level. \nDiese Themen erwarten Dich: \n\nArbeitnehmer vs. Freelancer\nEinsatz von Werkstudenten und Praktikanten\nArbeitsvertragsgestaltung\nVergütungsmodelle\nUrlaub\nArbeitszeit\nBeendigung von Arbeitsverhältnissen (Formalitäten\, Kündigungsschutz\, Abmahnung)\nGeschäftsführerfragen\nArbeitsrechtliches Sales-Enablement (arbeitsrechtliche Themen beim Vertrieb von Tech-Produkten)\n\nUnsere Referentin Dr. Julia Pfrogner ist Rechtsanwältin und Fachanwältin für Arbeitsrecht. Nach einer mehrjährigen Zeit in einer Münchner Großkanzlei betreibt Julia zusammen mit ihren Partnern eine Arbeitsrechtskanzlei in München. Sie berät überwiegend Unternehmen aus dem Mittelstand. Ihr spezieller Fokus liegt dabei auf Startups. \nHier findet Ihr mehr Informationen zu der Veranstaltung.
URL:https://cms.munich-startup.net/en/event/labor-law-made-easy-how-to-set-up-your-startup-legally/
LOCATION:gate – Garchinger Technologie- und Gründerzentrum GmbH\, Lichtenbergstraße 8\, Garching bei München\, 85748
ATTACH;FMTTYPE=image/jpeg:https://cms.munich-startup.net/wp-content/uploads/2024/10/Visual-Eventbrite-1.jpg
GEO:48.2686397;11.6651295
X-APPLE-STRUCTURED-LOCATION;VALUE=URI;X-ADDRESS=gate – Garchinger Technologie- und Gründerzentrum GmbH Lichtenbergstraße 8 Garching bei München 85748;X-APPLE-RADIUS=500;X-TITLE=Lichtenbergstraße 8:geo:11.6651295,48.2686397
END:VEVENT
END:VCALENDAR