BEGIN:VCALENDAR
VERSION:2.0
PRODID:-//Munich Startup - ECPv5.5.0//NONSGML v1.0//EN
CALSCALE:GREGORIAN
METHOD:PUBLISH
X-WR-CALNAME:Munich Startup
X-ORIGINAL-URL:https://cms.munich-startup.net/en
X-WR-CALDESC:Events for Munich Startup
BEGIN:VTIMEZONE
TZID:Europe/Berlin
BEGIN:DAYLIGHT
TZOFFSETFROM:+0100
TZOFFSETTO:+0200
TZNAME:CEST
DTSTART:20250330T010000
END:DAYLIGHT
BEGIN:STANDARD
TZOFFSETFROM:+0200
TZOFFSETTO:+0100
TZNAME:CET
DTSTART:20251026T010000
END:STANDARD
END:VTIMEZONE
BEGIN:VEVENT
DTSTART;TZID=Europe/Berlin:20251024T100000
DTEND;TZID=Europe/Berlin:20251024T160000
DTSTAMP:20260425T052417
CREATED:20251008T080356Z
LAST-MODIFIED:20251008T080356Z
UID:113500-1761300000-1761321600@cms.munich-startup.net
SUMMARY:ITCS 2025
DESCRIPTION:Am Freitag\, den 24. Oktober 2025\, findet der ITCS München im MOC Event Center statt. Der ITCS ist mehr als eine reine Jobmesse – hier verschmelzen Tech Konferenz\, IT-Karrieremesse\, Festival-Feeling & Networking. \nAuf seinen Bühnen präsentieren Top-ReferentInnen die neuesten IT-Trends und über 70 Unternehmen – von innovativen Startups bis zu globalen Tech-Konzernen – stellen ihre Projekte und Karrierechancen vor. Mit rund 3.000 erwarteten BesucherInnen bringt der ITCS  Young Professionals\, Studierende und Arbeitgeber aus ganz Deutschland zusammen. \nDie BesucherInnen erwarten über 30 Vorträge auf mehreren Themen-Bühnen sowie spannende Masterclasses von ExpertInnen der IT-Branche. Panels und Q&A-Runden bieten interaktive Einblicke in aktuelle Tech-Themen und gleichzeitig schaffen Gaming- und Networking-Zonen mit Tischkicker\, eSports-Stationen und Chill-out-Areas eine unvergessliche Festival-Atmosphäre. \nSchwerpunkte & Themenbühnen\n\nCyber Security: Fachvorträge und Diskussionen zeigen aktuelle Strategien zum Schutz vor Cyberangriffen.\nWomen in Tech: Diversität und Karrierewege für Frauen in der IT-Branche stehen im Fokus.\nKünstliche Intelligenz: Neueste Entwicklungen und Anwendungen der KI prägen viele Sessions und Masterclasses.\n\nPartner & Aussteller\nPartner wie das Bundesamt für Verfassungsschutz\, die Bundeswehr\, KPMG\, MHP und Telekom Security gestalten das Programm aktiv mit. Insgesamt präsentieren über 70 Aussteller aus Wirtschaft und öffentlichem Dienst ihre Angebote und Projekte – vom innovativen Startup bis zum internationalen Konzern. Besucher können direkt am Stand der Unternehmen in persönliche Gespräche kommen und sich über Einstiegsmöglichkeiten informieren. \nKooperationsmöglichkeiten für Startups\nTeilnehmende Startups bekommen folgende Leistungen kostenfrei: \n\n4m² Standfläche in der Kooperationsarea\, gemeinsam mit anderen Partnern\n2 Stehtische und 1 Barhocker\nSichtbarkeit auf der Eventseite als Aussteller auf der Messe\n\nBei Interesse meldet euch unter kooperationen@it-cs.io. \nHier findet Ihr mehr Informationen zu der Veranstaltung.
URL:https://cms.munich-startup.net/en/event/itcs-2025/
LOCATION:MOC\, Lilienthalallee 40\, München\, 80939
ATTACH;FMTTYPE=image/jpeg:https://cms.munich-startup.net/wp-content/uploads/2025/10/ITCS-Muenchen-2025.jpg
GEO:48.1970141;11.6111761
X-APPLE-STRUCTURED-LOCATION;VALUE=URI;X-ADDRESS=MOC Lilienthalallee 40 München 80939;X-APPLE-RADIUS=500;X-TITLE=Lilienthalallee 40:geo:11.6111761,48.1970141
END:VEVENT
END:VCALENDAR