BEGIN:VCALENDAR
VERSION:2.0
PRODID:-//Munich Startup - ECPv5.5.0//NONSGML v1.0//EN
CALSCALE:GREGORIAN
METHOD:PUBLISH
X-WR-CALNAME:Munich Startup
X-ORIGINAL-URL:https://cms.munich-startup.net/en
X-WR-CALDESC:Events for Munich Startup
BEGIN:VTIMEZONE
TZID:Europe/Berlin
BEGIN:DAYLIGHT
TZOFFSETFROM:+0100
TZOFFSETTO:+0200
TZNAME:CEST
DTSTART:20250330T010000
END:DAYLIGHT
BEGIN:STANDARD
TZOFFSETFROM:+0200
TZOFFSETTO:+0100
TZNAME:CET
DTSTART:20251026T010000
END:STANDARD
END:VTIMEZONE
BEGIN:VEVENT
DTSTART;TZID=Europe/Berlin:20250929T120000
DTEND;TZID=Europe/Berlin:20251001T123000
DTSTAMP:20260425T052417
CREATED:20250819T132804Z
LAST-MODIFIED:20250819T132804Z
UID:111921-1759147200-1759321800@cms.munich-startup.net
SUMMARY:ISAR Unfiltered
DESCRIPTION:ISAR Unfiltered is a three-day\, invite-heavy side-event running alongside Bits & Pretzels 2025. We bring 100 next-gen founders together with operator mentors and ecosystem partners for unfiltered conversations\, ego-free connections\, and warm intros that actually matter. No panels. No vanity pitches. Straight talk and a European network you can rely on. \nWho it’s for: early builders (prototype\, first users\, or sharp insight)\, operators\, investors\, and community partners who value depth over buzzwords. \nWhat to expect: small high-signal sessions\, practical inspiration\, and optional after-hours touchpoints with the wider Bits & Pretzels community. \nWhy attend: honest feedback from people who’ve built before\, doors opened through real conversations\, not wristbands. \nHier findet Ihr mehr Informationen zu der Veranstaltung.
URL:https://cms.munich-startup.net/en/event/isar-unfiltered/
LOCATION:WERK1\, Am Kartoffelgarten 14\, München\, 81671\, Germany
ATTACH;FMTTYPE=image/png:https://cms.munich-startup.net/wp-content/uploads/2025/08/Poster01.png
END:VEVENT
END:VCALENDAR