BEGIN:VCALENDAR
VERSION:2.0
PRODID:-//Munich Startup - ECPv5.5.0//NONSGML v1.0//EN
CALSCALE:GREGORIAN
METHOD:PUBLISH
X-WR-CALNAME:Munich Startup
X-ORIGINAL-URL:https://cms.munich-startup.net/en
X-WR-CALDESC:Events for Munich Startup
BEGIN:VTIMEZONE
TZID:Europe/Berlin
BEGIN:DAYLIGHT
TZOFFSETFROM:+0100
TZOFFSETTO:+0200
TZNAME:CEST
DTSTART:20170326T010000
END:DAYLIGHT
BEGIN:STANDARD
TZOFFSETFROM:+0200
TZOFFSETTO:+0100
TZNAME:CET
DTSTART:20171029T010000
END:STANDARD
END:VTIMEZONE
BEGIN:VEVENT
DTSTART;TZID=Europe/Berlin:20170214T113000
DTEND;TZID=Europe/Berlin:20170214T140000
DTSTAMP:20260425T013816
CREATED:20170124T122445Z
LAST-MODIFIED:20220110T075235Z
UID:18616-1487071800-1487080800@cms.munich-startup.net
SUMMARY:Investoren-Seminar der Region Amsterdam-Utrecht in München
DESCRIPTION:Deutschland ist der wichtigste Handelspartner der Niederlande. Das gemeinsame Handelsvolumen liegt bei 148 Milliarden Euro im Jahr. Insbesondere Hollands Metropolregion Amsterdam und Utrecht hat deutschen Unternehmen viel zu bieten. Was? Das präsentiert die Region im Rahmen eines Investoren-Seminars\, das am Dienstag\, 14. Februar 2017\, zwischen 11.30 und 14.00 Uhr bei PricewaterhouseCoopers (PwC) in München stattfindet. \nExperten von PwC\, der Deutsch-Niederländischen Handelskammer (DNHK) sowie aus Utrecht und Amsterdam stellen die Chancen in der Region vor. Die Bandbreite reicht von attraktiven Absatzmärkten über innovative Kooperationspartner bis hin zu perfekt vernetzten Standorten für das internationale Geschäft. Zudem werden die Unterschiede in der Geschäftskultur thematisiert. \nUnterstützt wird das Seminar von der Deutschen Bank und dem Niederländischen Generalkonsulat in München. Die Teilnahme ist kostenfrei. \nInformationen und Anmeldung: Bianca Glang\, b.glang@utrecht.nl\, www.ucib.nl/de
URL:https://cms.munich-startup.net/en/event/investor-seminar-of-the-amsterdam-utrecht-region-in-munich/
LOCATION:PwC\, Bernhard-Wicki-Str. 8\, München\, 80636
ATTACH;FMTTYPE=image/jpeg:https://cms.munich-startup.net/wp-content/uploads/2017/01/amsterdam-1674530_1280-e1485358502299.jpg
GEO:48.1427409;11.5475784
X-APPLE-STRUCTURED-LOCATION;VALUE=URI;X-ADDRESS=PwC Bernhard-Wicki-Str. 8 München 80636;X-APPLE-RADIUS=500;X-TITLE=Bernhard-Wicki-Str. 8:geo:11.5475784,48.1427409
END:VEVENT
END:VCALENDAR