BEGIN:VCALENDAR
VERSION:2.0
PRODID:-//Munich Startup - ECPv5.5.0//NONSGML v1.0//EN
CALSCALE:GREGORIAN
METHOD:PUBLISH
X-WR-CALNAME:Munich Startup
X-ORIGINAL-URL:https://cms.munich-startup.net/en
X-WR-CALDESC:Events for Munich Startup
BEGIN:VTIMEZONE
TZID:Europe/Berlin
BEGIN:DAYLIGHT
TZOFFSETFROM:+0100
TZOFFSETTO:+0200
TZNAME:CEST
DTSTART:20250330T010000
END:DAYLIGHT
BEGIN:STANDARD
TZOFFSETFROM:+0200
TZOFFSETTO:+0100
TZNAME:CET
DTSTART:20251026T010000
END:STANDARD
END:VTIMEZONE
BEGIN:VEVENT
DTSTART;TZID=Europe/Berlin:20251015T173000
DTEND;TZID=Europe/Berlin:20251015T210000
DTSTAMP:20260425T054603
CREATED:20250915T140956Z
LAST-MODIFIED:20250915T140956Z
UID:112684-1760549400-1760562000@cms.munich-startup.net
SUMMARY:International Entrepreneurs' Night: Mobility #Netherlands
DESCRIPTION:International Entrepreneurs‘ Night: Mobility #Netherlands x Rise Europe \nThis special edition\, in collaboration with our Dutch Rise Europe partners YES!Delft and HighTechXL\, puts the Netherlands‘ vibrant ecosystem in the spotlight. We are exploring how a mindset of resilience and smart design can solve today’s most pressing mobility challenges. \nGet ready for an evening of deep insights and powerful connections. Whether you are a founder\, investor\, corporate innovator\, or just passionate about the future of mobility\, you’ll leave with fresh ideas and new contacts. \nDon’t miss this opportunity to bridge ecosystems and shape the future of European mobility. Secure your spot for October 15th! \nHier findet Ihr mehr Informationen zu der Veranstaltung.
URL:https://cms.munich-startup.net/en/event/international-entrepreneurs-night-mobility-netherlands/
LOCATION:Munich Urban Colab\, Freddie-Mercury-Straße 5\, München\, 80797
ATTACH;FMTTYPE=image/jpeg:https://cms.munich-startup.net/wp-content/uploads/2025/09/250807-Netherlands_VAHeader_Enight_2160x1080px-1.jpg
END:VEVENT
END:VCALENDAR