BEGIN:VCALENDAR
VERSION:2.0
PRODID:-//Munich Startup - ECPv5.5.0//NONSGML v1.0//EN
CALSCALE:GREGORIAN
METHOD:PUBLISH
X-WR-CALNAME:Munich Startup
X-ORIGINAL-URL:https://cms.munich-startup.net/en
X-WR-CALDESC:Events for Munich Startup
BEGIN:VTIMEZONE
TZID:Europe/Berlin
BEGIN:DAYLIGHT
TZOFFSETFROM:+0100
TZOFFSETTO:+0200
TZNAME:CEST
DTSTART:20250330T010000
END:DAYLIGHT
BEGIN:STANDARD
TZOFFSETFROM:+0200
TZOFFSETTO:+0100
TZNAME:CET
DTSTART:20251026T010000
END:STANDARD
END:VTIMEZONE
BEGIN:VEVENT
DTSTART;TZID=Europe/Berlin:20250605T173000
DTEND;TZID=Europe/Berlin:20250605T210000
DTSTAMP:20260425T123700
CREATED:20250303T073518Z
LAST-MODIFIED:20250303T073518Z
UID:108287-1749144600-1749157200@cms.munich-startup.net
SUMMARY:International Entrepreneurs' Night: Mobility #Helsinki x Rise Europe
DESCRIPTION:Join us in discovering mobility innovations from Helsinki that contribute to shaping our future of mobility! \nStartup Mobility Innovations from #Helsinki\nIn collaboration with our partner Aalto University and Rise Europe – the network of leading European start-up ecosystem builders\, we showcase cutting-edge advancements in the field of mobility on June 5th in Munich. \nThe event provides a platform for innovative startups and experts to share their ideas and developments\, and to foster valuable connections between the Munich startup ecosystem and European ecosystems within the Rise Europe network. By creating an environment of learning and collaboration\, we drive innovation and facilitate a meaningful exchange of mobility solutions. \nJust a few reasons to take a closer look at Helsinki’s innovation landscape: \n\nFinland is a leader in sustainable and smart mobility solutions.\nFinland has a strong track record in developing and implementing advanced technologies.\nFinland’s startup ecosystem is vibrant and supportive\, fostering innovation and entrepreneurship.\n\nJoin us as we celebrate the power of collaboration and ingenuity in shaping the future of mobility! \nHier findet Ihr mehr Informationen zu der Veranstaltung.
URL:https://cms.munich-startup.net/en/event/international-entrepreneurs-night-mobility-helsinki-x-rise-europe/
LOCATION:Munich Urban Colab\, Freddie-Mercury-Straße 5\, München\, 80797
ATTACH;FMTTYPE=image/avif:https://cms.munich-startup.net/wp-content/uploads/2025/03/International-Entrepreneurs-Night-Mobility-Helsinki-x-Rise-Europe.avif
END:VEVENT
END:VCALENDAR