BEGIN:VCALENDAR
VERSION:2.0
PRODID:-//Munich Startup - ECPv5.5.0//NONSGML v1.0//EN
CALSCALE:GREGORIAN
METHOD:PUBLISH
X-WR-CALNAME:Munich Startup
X-ORIGINAL-URL:https://cms.munich-startup.net/en
X-WR-CALDESC:Events for Munich Startup
BEGIN:VTIMEZONE
TZID:Europe/Berlin
BEGIN:DAYLIGHT
TZOFFSETFROM:+0100
TZOFFSETTO:+0200
TZNAME:CEST
DTSTART:20240331T010000
END:DAYLIGHT
BEGIN:STANDARD
TZOFFSETFROM:+0200
TZOFFSETTO:+0100
TZNAME:CET
DTSTART:20241027T010000
END:STANDARD
END:VTIMEZONE
BEGIN:VEVENT
DTSTART;TZID=Europe/Berlin:20241105T180000
DTEND;TZID=Europe/Berlin:20241105T213000
DTSTAMP:20260425T222255
CREATED:20241031T062139Z
LAST-MODIFIED:20241031T062139Z
UID:105656-1730829600-1730842200@cms.munich-startup.net
SUMMARY:InnovationsCafe: AI Edition
DESCRIPTION:Let’s talk AI – wann ist es ein Game Changer und wann nur ein trendy Gadget für eine Startup-Idee? \nDieser Frage wollen wir an diesem Abend stärker auf den Grund gehen. \nYamen Mohisn von SmartAIs wird uns erzählen\, wie sie mit AI Handykameras befähigen blinde Menschen durch Ton sicher an Hindernissen vorbeizuführen. Sie haben dafür gerade erst den deustchen Mobilitätspreis gewonnen. \nJulia Yukovich von AICU hat mit ihrem Team den gesamten Forschungsprozess\, von der Datenanalyse bis hin zu publikationsreifen Präsentationen mit AI rationalisiert\, und spart Forschern wertvolle Zeit und Energie. Sie haben diese Woche erst die Female Founder Competition auf der Slush Heilbronn gewonnen. \nPhilip von Törne\, AI Coach am SCE & AI+Munich wird über seine Erfahrungen mit AI in Startups sprechen. Ihr werdet ein Gefühl dafür bekommen\, wie AI sinnvoll genutzt werden kann und wann es vielleicht nur en Label ist\, um attraktiver für VC zu wirken. \nKommt vorbei\, stellt Fragen im Q&A – Panel und sprecht mit ihnen intensiver später beim NetChatten. Dazu gibt es wie immer Getränke und Snacks und findet überraschende Übereinstimmungen im Austausch mit den anderen Gästen. \nHier findet Ihr mehr Informationen zu der Veranstaltung.
URL:https://cms.munich-startup.net/en/event/innovationscafe-ai-edition/
LOCATION:Strascheg Center for Entrepreneurship (SCE)\, Heßstraße 89\, München\, 80797
GEO:48.1539667;11.5576473
X-APPLE-STRUCTURED-LOCATION;VALUE=URI;X-ADDRESS=Strascheg Center for Entrepreneurship (SCE) Heßstraße 89 München 80797;X-APPLE-RADIUS=500;X-TITLE=Heßstraße 89:geo:11.5576473,48.1539667
END:VEVENT
END:VCALENDAR