BEGIN:VCALENDAR
VERSION:2.0
PRODID:-//Munich Startup - ECPv5.5.0//NONSGML v1.0//EN
CALSCALE:GREGORIAN
METHOD:PUBLISH
X-WR-CALNAME:Munich Startup
X-ORIGINAL-URL:https://cms.munich-startup.net/en
X-WR-CALDESC:Events for Munich Startup
BEGIN:VTIMEZONE
TZID:Europe/Berlin
BEGIN:DAYLIGHT
TZOFFSETFROM:+0100
TZOFFSETTO:+0200
TZNAME:CEST
DTSTART:20240331T010000
END:DAYLIGHT
BEGIN:STANDARD
TZOFFSETFROM:+0200
TZOFFSETTO:+0100
TZNAME:CET
DTSTART:20241027T010000
END:STANDARD
END:VTIMEZONE
BEGIN:VEVENT
DTSTART;TZID=Europe/Berlin:20240626T093000
DTEND;TZID=Europe/Berlin:20240626T163000
DTSTAMP:20260426T054204
CREATED:20231218T065520Z
LAST-MODIFIED:20231219T131031Z
UID:96922-1719394200-1719419400@cms.munich-startup.net
SUMMARY:IKOM Start-Up
DESCRIPTION:Karrieremesse am Campus der Technischen Universität München in Garching: Thema Startup \nDie IKOM ist ein studentischer Messeveranstalter für Karrieremessen\, der es sich zur Aufgabe gemacht hat\, ein persönliches Kontakteknüpfen zwischen Unternehmen und Studierenden aller Fachrichtungen zu ermöglichen. \nVor Ort sein werden Startups im Münchner Raum\, die aktuell Kontakt zu Studierenden suchen\, und natürlich Student*innen\, die Kontakt zu innovativen jungen Unternehmen suchen. \nHöhepunkt wird auch dieses Jahr wieder der Startup Pitch. \nHier findet Ihr mehr Informationen zu der Veranstaltung.
URL:https://cms.munich-startup.net/en/event/ikom-startup-2024/
LOCATION:TUM – Campus Garching\, Boltzmannstr. 3\, Garching bei München\, 85747
ATTACH;FMTTYPE=image/png:https://cms.munich-startup.net/wp-content/uploads/2023/12/IKOM_Start_Up_green.png
GEO:48.2622985;11.6697764
X-APPLE-STRUCTURED-LOCATION;VALUE=URI;X-ADDRESS=TUM – Campus Garching Boltzmannstr. 3 Garching bei München 85747;X-APPLE-RADIUS=500;X-TITLE=Boltzmannstr. 3:geo:11.6697764,48.2622985
END:VEVENT
END:VCALENDAR