BEGIN:VCALENDAR
VERSION:2.0
PRODID:-//Munich Startup - ECPv5.5.0//NONSGML v1.0//EN
CALSCALE:GREGORIAN
METHOD:PUBLISH
X-WR-CALNAME:Munich Startup
X-ORIGINAL-URL:https://cms.munich-startup.net/en
X-WR-CALDESC:Events for Munich Startup
BEGIN:VTIMEZONE
TZID:Europe/Berlin
BEGIN:DAYLIGHT
TZOFFSETFROM:+0100
TZOFFSETTO:+0200
TZNAME:CEST
DTSTART:20260329T010000
END:DAYLIGHT
BEGIN:STANDARD
TZOFFSETFROM:+0200
TZOFFSETTO:+0100
TZNAME:CET
DTSTART:20261025T010000
END:STANDARD
END:VTIMEZONE
BEGIN:VEVENT
DTSTART;TZID=Europe/Berlin:20260508T133000
DTEND;TZID=Europe/Berlin:20260508T143000
DTSTAMP:20260424T182918
CREATED:20260325T085639Z
LAST-MODIFIED:20260326T110945Z
UID:118740-1778247000-1778250600@cms.munich-startup.net
SUMMARY:Online: Mitarbeiter einstellen\, Arbeitsverhältnisse gestalten
DESCRIPTION:Wächst dein Unternehmen\, benötigst du meist sehr schnell zusätzliche Mitarbeiter – in geringfügiger Beschäftigung\, Teil- oder Vollzeit. Die Personalkosten sind dabei häufig der größte Kostenblock für Startups. \nAndré Braig von Osborne Clarke gibt dir Einblicke und Praxistipps zum Arbeitsverhältnis zwischen Arbeitgeber und Arbeitnehmer: \n\nWelche Rechte und Pflichten haben Arbeitgeber und Arbeitnehmer?\nWas muss ich bei der Einstellung von Mitarbeitern beachten?\nWas sollte im Arbeitsvertrag stehen?\nWie kann ich ein Arbeitsverhältnis möglichst kostengünstig beenden?\nFreie Mitarbeiter oder Zeitarbeitnehmer als Alternative?\nWelche Risiken und „Fallen“ muss ich als Arbeitgeber berücksichtigen?\n\nHier findet Ihr mehr Informationen zu der Veranstaltung.
URL:https://cms.munich-startup.net/en/event/hiring-employees-shaping-working-conditions-0526/
LOCATION:Online
ATTACH;FMTTYPE=image/png:https://cms.munich-startup.net/wp-content/uploads/2023/03/BayStartUP_Logotype_pos_RGB.png
END:VEVENT
END:VCALENDAR