BEGIN:VCALENDAR
VERSION:2.0
PRODID:-//Munich Startup - ECPv5.5.0//NONSGML v1.0//EN
CALSCALE:GREGORIAN
METHOD:PUBLISH
X-WR-CALNAME:Munich Startup
X-ORIGINAL-URL:https://cms.munich-startup.net/en
X-WR-CALDESC:Events for Munich Startup
BEGIN:VTIMEZONE
TZID:Europe/Berlin
BEGIN:DAYLIGHT
TZOFFSETFROM:+0100
TZOFFSETTO:+0200
TZNAME:CEST
DTSTART:20220327T010000
END:DAYLIGHT
BEGIN:STANDARD
TZOFFSETFROM:+0200
TZOFFSETTO:+0100
TZNAME:CET
DTSTART:20221030T010000
END:STANDARD
END:VTIMEZONE
BEGIN:VEVENT
DTSTART;TZID=Europe/Berlin:20221006T093000
DTEND;TZID=Europe/Berlin:20221007T163000
DTSTAMP:20260424T231143
CREATED:20220908T075303Z
LAST-MODIFIED:20220908T080341Z
UID:85587-1665048600-1665160200@cms.munich-startup.net
SUMMARY:herCAREER-Expo 2022
DESCRIPTION:Die herCAREER-Expo ist DIE Leitmesse für die weibliche Karriere am 06. und 07. Oktober 2022 in München. Sie vernetzt ihre Teilnehmer:innen mit renommierten Vorbildern aus Wirtschaft\, Wissenschaft\, Kultur\, Politik und Medien. Das vielfältige Angebot umfasst rund 350 MeetUps & Talks mit mehr als 450 Role Models\, Insidern und Expert:innen und über 60 Vorträge und Diskussionen. \nAUSSTELLUNGSSPEKTRUM\nDie zahlreichen Angebote zur besseren Vereinbarkeit von Familie und Beruf\, zu Weiterbildungsmöglichkeiten und natürlich rund um das Thema Gründung & Unternehmertum machen die Messe einzigartig. Bei der herCAREER-Expo können Gründer:innen von bereits etablierten erfolgreichen Gründer:innen lernen. Ganz egal\, in welcher Phase der Gründung sie sich befinden – der Austausch findet stets über Hierarchien hinweg auf Augenhöhe statt. \nEin besonderer Fokus wird auf den Themenbereich Finanzen\, Geld und Vorsorge gelegt. Bei den Future Talks stellen Unternehmen vor\, an welchen Innovationen sie arbeiten und wie sie Digitalisierung und New Work vorantreiben. Über das Format Innovation Lab präsentieren sie ihre Hubs\, Acceleratoren und Inkubatoren. \nDIGITALES MESSE-MATCHING\nDie herCAREER-Expo ist eine der ersten Messen in Europa\, die ein umfangreiches digitales Messe-Matching einsetzt. Die Besucher:innen erhalten mithilfe von Algorithmen personalisierte Matches auf die Angebote der Aussteller\, auf Vorträge und MeetUps\, aber auch für einen persönlichen Austausch mit dem Standpersonal und den Referent:innen. \nTIPP: Besucher:innen profitieren von einem bestmöglichen Matching ab 2 Wochen vor Veranstaltungsbeginn. Je eher sich Besucher:innen registrieren\, von umso mehr Matching-Runden profitieren sie. \nHier findet Ihr mehr Informationen zu der Veranstaltung.
URL:https://cms.munich-startup.net/en/event/hercareer-expo-2022/
LOCATION:MOC\, Lilienthalallee 40\, München\, 80939
ATTACH;FMTTYPE=image/jpeg:https://cms.munich-startup.net/wp-content/uploads/2022/09/hC21_Logo_Expo_CMYK_300dpi-scaled-1.jpg
GEO:48.1970141;11.6111761
X-APPLE-STRUCTURED-LOCATION;VALUE=URI;X-ADDRESS=MOC Lilienthalallee 40 München 80939;X-APPLE-RADIUS=500;X-TITLE=Lilienthalallee 40:geo:11.6111761,48.1970141
END:VEVENT
END:VCALENDAR