BEGIN:VCALENDAR
VERSION:2.0
PRODID:-//Munich Startup - ECPv5.5.0//NONSGML v1.0//EN
CALSCALE:GREGORIAN
METHOD:PUBLISH
X-WR-CALNAME:Munich Startup
X-ORIGINAL-URL:https://cms.munich-startup.net/en
X-WR-CALDESC:Events for Munich Startup
BEGIN:VTIMEZONE
TZID:Europe/Berlin
BEGIN:DAYLIGHT
TZOFFSETFROM:+0100
TZOFFSETTO:+0200
TZNAME:CEST
DTSTART:20250330T010000
END:DAYLIGHT
BEGIN:STANDARD
TZOFFSETFROM:+0200
TZOFFSETTO:+0100
TZNAME:CET
DTSTART:20251026T010000
END:STANDARD
END:VTIMEZONE
BEGIN:VEVENT
DTSTART;TZID=Europe/Berlin:20251111T180000
DTEND;TZID=Europe/Berlin:20251111T190000
DTSTAMP:20260425T041047
CREATED:20251020T123452Z
LAST-MODIFIED:20251020T123452Z
UID:113883-1762884000-1762887600@cms.munich-startup.net
SUMMARY:Online: Happy Impact Hour
DESCRIPTION:Du hast eine Idee\, die Gutes bewirkt? Oder bist noch auf der Suche danach?\nBei der Happy Impact Hour erhältst Du nützliche Tools\, Tipps und Tricks\, um Dein Vorhaben erfolgreich umzusetzen. Unser Live-Webinar findet monatlich mit wechselnden Themen-Schwerpunkten aus dem Bereich Social Entrepreneurship statt. \nIn der November-Ausgabe unseres Live-Webinars erfährst Du von Investment-Expertin Maria Pfeffer von FASE\, was Impact-InvestorInnen suchen\, welche Arten von Investitionen es gibt und wie Du passendes Kapital für Dein Vorhaben akquirierst. Im Anschluss an den kurzen Impuls hast Du die Möglichkeit\, unseren erfahrenen Gründungsberaterinnen Deine Fragen zu stellen und Dich mit den gleichgesinnten Teilnehmenden auszutauschen. \nUnsere Highlights für Dich: \n\nOrtsunabhängige Teilnahme an unserem kostenlosen Live-Webinar via Zoom\nAustausch mit Gleichgesinnten und Expert:innen\nStell Deine Fragen!\n\nDas Format wird über Zoom stattfinden. Einen Link erhältst Du kurz vor dem Event per E-Mail. \nDer Social-Startup-Hub Bayern ist ein Projekt der Social Entrepreneurship Akademie und wird aus Mitteln des Bayerischen Staatsministeriums für Familie\, Arbeit und Soziales gefördert. \nHier findet Ihr mehr Informationen zu der Veranstaltung.
URL:https://cms.munich-startup.net/en/event/happy-impact-hour-1125/
LOCATION:Online
ATTACH;FMTTYPE=image/jpeg:https://cms.munich-startup.net/wp-content/uploads/2025/10/SSHB_Happy-Impact-Hour_Newsletter-2-1-2.jpg
END:VEVENT
END:VCALENDAR