BEGIN:VCALENDAR
VERSION:2.0
PRODID:-//Munich Startup - ECPv5.5.0//NONSGML v1.0//EN
CALSCALE:GREGORIAN
METHOD:PUBLISH
X-WR-CALNAME:Munich Startup
X-ORIGINAL-URL:https://cms.munich-startup.net/en
X-WR-CALDESC:Events for Munich Startup
BEGIN:VTIMEZONE
TZID:Europe/Berlin
BEGIN:DAYLIGHT
TZOFFSETFROM:+0100
TZOFFSETTO:+0200
TZNAME:CEST
DTSTART:20250330T010000
END:DAYLIGHT
BEGIN:STANDARD
TZOFFSETFROM:+0200
TZOFFSETTO:+0100
TZNAME:CET
DTSTART:20251026T010000
END:STANDARD
END:VTIMEZONE
BEGIN:VEVENT
DTSTART;TZID=Europe/Berlin:20250211T180000
DTEND;TZID=Europe/Berlin:20250211T190000
DTSTAMP:20260425T180408
CREATED:20241209T130012Z
LAST-MODIFIED:20241209T130012Z
UID:106454-1739296800-1739300400@cms.munich-startup.net
SUMMARY:Online: Happy Impact Hour
DESCRIPTION:Bei der Happy Impact Hour des Social-Startup-Hub Bayern erhältst Du nützliche Tools\, Tipps und Tricks\, um Dein Vorhaben erfolgreich umzusetzen. Unser Live-Webinar findet monatlich mit wechselnden Themen-Schwerpunkten aus dem Bereich Social Entrepreneurship statt. \nDieses Mal erfährst Du\, an was Social Startups scheitern und was sie zum Erfolg führt. \nIm Anschluss an den kurzen Impuls hast Du die Möglichkeit\, unseren erfahrenen Gründungsberaterinnen Deine Fragen zu stellen und Dich mit den gleichgesinnten Teilnehmenden auszutauschen. \nHier findet Ihr mehr Informationen zu der Veranstaltung.
URL:https://cms.munich-startup.net/en/event/happy-impact-hour-0225/
LOCATION:Online
ATTACH;FMTTYPE=image/jpeg:https://cms.munich-startup.net/wp-content/uploads/2024/12/SSHB_Happy-Impact-Hour_Newsletter-1.jpg
END:VEVENT
END:VCALENDAR